Workbook

Sheet Параметры
A1: Параметры | D1: Показатели бизнеса
A2: Инвестиции | B2: 170000000
A3: Мощность, кг/мес | B3: 200000 | D3: Собственные средства
A4: Базовая цена, руб/кг | B4: 45 | D4: Инвестиции | E4: =Показатели!$B$2 -> 170000000
A5: Ставка НП (консервативная) | B5: 0.25 | D5: Среднегодовая чистая прибыль (годы 3-5), факт | E5: =Показатели!$B$3 -> 68749098
A6: Ставка НП (фактическая) | B6: 0.02 | D6: Срок простой окупаемости, лет (факт) | E6: =Показатели!$B$4 -> 2.4727597
A7: Тип сырья | B7: Горбыль
A8: Ставка дисконтирования, % | B8: 0.2 | D8: Ставка дисконтирования, % | E8: =Показатели!$B$6 -> 0.2
D9: NPV (факт, без кредита) | E9: =Показатели!$B$7 -> 8479237.5
A10: Рост цены в год, % | B10: 0.05 | D10: IRR (факт, без кредита) | E10: =Показатели!$B$8 -> 0.22079918
A11: Рост затрат в год, % | B11: 0.05
A13: Кол-во лет модели | B13: 5 | D13: С использованием кредита
A14: Кол-во месяцев | B14: =B13*12 -> 60 | D14: Собственные средства | E14: =Показатели_кредит!B2 -> 85000000
D15: Среднегодовая чистая прибыль (годы 3-5), факт, с кредитом | E15: =Показатели_кредит!B3 -> 64024239
A16: Кредит: доля от инвестиций | B16: 0.5 | D16: Доходность на equity, % в год (факт) | E16: =Показатели_кредит!B4 -> 0.75322634
A17: Кредит: ставка, % годовых | B17: 0.15
A18: Кредит: срок, лет | B18: 5 | D18: Ставка дисконтирования, % | E18: =Показатели_кредит!B6 -> 0.2
A19: Сумма кредита | B19: =B2*B16 -> 85000000 | D19: NPV (equity, факт, с кредитом) | E19: =Показатели_кредит!B7 -> 69564995
A20: Собственные средства | B20: =B2-B19 -> 85000000 | D20: IRR (equity, факт, с кредитом) | E20: =Показатели_кредит!B8 -> 0.48950299
A21: Срок кредита, мес | B21: =B18*12 -> 60
A23: Помесячная загрузка
A24: Месяц | B24: Год | C24: Коэф_загрузки
A25: 1 | B25: =ROUNDUP(A25/12,0) -> 1 | C25: =IF(B25=1,0.8,IF(B25=2,0.9,1)) -> 0.8
A26: 2 | B26: =ROUNDUP(A26/12,0) -> 1 | C26: =IF(B26=1,0.8,IF(B26=2,0.9,1)) -> 0.8
A27: 3 | B27: =ROUNDUP(A27/12,0) -> 1 | C27: =IF(B27=1,0.8,IF(B27=2,0.9,1)) -> 0.8
A28: 4 | B28: =ROUNDUP(A28/12,0) -> 1 | C28: =IF(B28=1,0.8,IF(B28=2,0.9,1)) -> 0.8
A29: 5 | B29: =ROUNDUP(A29/12,0) -> 1 | C29: =IF(B29=1,0.8,IF(B29=2,0.9,1)) -> 0.8
A30: 6 | B30: =ROUNDUP(A30/12,0) -> 1 | C30: =IF(B30=1,0.8,IF(B30=2,0.9,1)) -> 0.8
A31: 7 | B31: =ROUNDUP(A31/12,0) -> 1 | C31: =IF(B31=1,0.8,IF(B31=2,0.9,1)) -> 0.8
A32: 8 | B32: =ROUNDUP(A32/12,0) -> 1 | C32: =IF(B32=1,0.8,IF(B32=2,0.9,1)) -> 0.8
A33: 9 | B33: =ROUNDUP(A33/12,0) -> 1 | C33: =IF(B33=1,0.8,IF(B33=2,0.9,1)) -> 0.8
A34: 10 | B34: =ROUNDUP(A34/12,0) -> 1 | C34: =IF(B34=1,0.8,IF(B34=2,0.9,1)) -> 0.8
A35: 11 | B35: =ROUNDUP(A35/12,0) -> 1 | C35: =IF(B35=1,0.8,IF(B35=2,0.9,1)) -> 0.8
A36: 12 | B36: =ROUNDUP(A36/12,0) -> 1 | C36: =IF(B36=1,0.8,IF(B36=2,0.9,1)) -> 0.8
... A84: 60 | B84: =ROUNDUP(A84/12,0) -> 5 | C84: =IF(B84=1,0.8,IF(B84=2,0.9,1)) -> 1

Sheet Себестоимость
A1: Себестоимость на 1 кг
A2: Тип сырья | B2: Цена за м3 | C2: Выход, кг | D2: Сырье, руб/кг | E2: Переменные, руб/кг | F2: Постоянные, руб/кг | G2: Упаковка, руб/кг | H2: ФОТ фасовщика, руб/кг | I2: Всего, руб/кг
A3: Горбыль | B3: 300 | C3: 80 | D3: =B3/C3 -> 3.75 | E3: 1 | F3: 7.87 | G3: 5 | H3: 2.15 | I3: =D3+E3+F3+G3+H3 -> 19.77
A4: Береза | B4: 1500 | C4: 150 | D4: =B4/C4 -> 10 | E4: 1 | F4: 7.87 | G4: 5 | H4: 2.15 | I4: =D4+E4+F4+G4+H4 -> 26.02
A5: Микс 50/50 | B5: =(B3+B4)/2 -> 900 | C5: =(C4+C3)/2 -> 115 | D5: =B5/C5 -> 7.826087 | E5: 1 | F5: 7.87 | G5: 5 | H5: 2.15 | I5: =D5+E5+F5+G5+H5 -> 23.846087
A7: Итого себестоимость по выбранному сырью | B7: =VLOOKUP(Параметры!B7,$A$3:$I$5,9,FALSE) -> 19.77

Sheet План_мес
A1: Месяц | B1: Год | C1: Коэф_загрузки | D1: Объем, кг | E1: Цена, руб/кг | F1: Себестоимость, руб/кг
A2: 1 | B2: =ROUNDUP(A2/12,0) -> 1 | C2: =VLOOKUP(A2,Параметры!$A$25:$C$84,3,FALSE) -> 0.8 | D2: =Параметры!$B$3*C2 -> 160000 | E2: =Параметры!$B$4*(1+Параметры!$B$10)^(B2-1) -> 45 | F2: =Себестоимость!$B$7*(1+Параметры!$B$11)^(B2-1) -> 19.77
A3: 2 | B3: =ROUNDUP(A3/12,0) -> 1 | C3: =VLOOKUP(A3,Параметры!$A$25:$C$84,3,FALSE) -> 0.8 | D3: =Параметры!$B$3*C3 -> 160000 | E3: =Параметры!$B$4*(1+Параметры!$B$10)^(B3-1) -> 45 | F3: =Себестоимость!$B$7*(1+Параметры!$B$11)^(B3-1) -> 19.77
A4: 3 | B4: =ROUNDUP(A4/12,0) -> 1 | C4: =VLOOKUP(A4,Параметры!$A$25:$C$84,3,FALSE) -> 0.8 | D4: =Параметры!$B$3*C4 -> 160000 | E4: =Параметры!$B$4*(1+Параметры!$B$10)^(B4-1) -> 45 | F4: =Себестоимость!$B$7*(1+Параметры!$B$11)^(B4-1) -> 19.77
A5: 4 | B5: =ROUNDUP(A5/12,0) -> 1 | C5: =VLOOKUP(A5,Параметры!$A$25:$C$84,3,FALSE) -> 0.8 | D5: =Параметры!$B$3*C5 -> 160000 | E5: =Параметры!$B$4*(1+Параметры!$B$10)^(B5-1) -> 45 | F5: =Себестоимость!$B$7*(1+Параметры!$B$11)^(B5-1) -> 19.77
A6: 5 | B6: =ROUNDUP(A6/12,0) -> 1 | C6: =VLOOKUP(A6,Параметры!$A$25:$C$84,3,FALSE) -> 0.8 | D6: =Параметры!$B$3*C6 -> 160000 | E6: =Параметры!$B$4*(1+Параметры!$B$10)^(B6-1) -> 45 | F6: =Себестоимость!$B$7*(1+Параметры!$B$11)^(B6-1) -> 19.77
A7: 6 | B7: =ROUNDUP(A7/12,0) -> 1 | C7: =VLOOKUP(A7,Параметры!$A$25:$C$84,3,FALSE) -> 0.8 | D7: =Параметры!$B$3*C7 -> 160000 | E7: =Параметры!$B$4*(1+Параметры!$B$10)^(B7-1) -> 45 | F7: =Себестоимость!$B$7*(1+Параметры!$B$11)^(B7-1) -> 19.77
A8: 7 | B8: =ROUNDUP(A8/12,0) -> 1 | C8: =VLOOKUP(A8,Параметры!$A$25:$C$84,3,FALSE) -> 0.8 | D8: =Параметры!$B$3*C8 -> 160000 | E8: =Параметры!$B$4*(1+Параметры!$B$10)^(B8-1) -> 45 | F8: =Себестоимость!$B$7*(1+Параметры!$B$11)^(B8-1) -> 19.77
A9: 8 | B9: =ROUNDUP(A9/12,0) -> 1 | C9: =VLOOKUP(A9,Параметры!$A$25:$C$84,3,FALSE) -> 0.8 | D9: =Параметры!$B$3*C9 -> 160000 | E9: =Параметры!$B$4*(1+Параметры!$B$10)^(B9-1) -> 45 | F9: =Себестоимость!$B$7*(1+Параметры!$B$11)^(B9-1) -> 19.77
A10: 9 | B10: =ROUNDUP(A10/12,0) -> 1 | C10: =VLOOKUP(A10,Параметры!$A$25:$C$84,3,FALSE) -> 0.8 | D10: =Параметры!$B$3*C10 -> 160000 | E10: =Параметры!$B$4*(1+Параметры!$B$10)^(B10-1) -> 45 | F10: =Себестоимость!$B$7*(1+Параметры!$B$11)^(B10-1) -> 19.77
A11: 10 | B11: =ROUNDUP(A11/12,0) -> 1 | C11: =VLOOKUP(A11,Параметры!$A$25:$C$84,3,FALSE) -> 0.8 | D11: =Параметры!$B$3*C11 -> 160000 | E11: =Параметры!$B$4*(1+Параметры!$B$10)^(B11-1) -> 45 | F11: =Себестоимость!$B$7*(1+Параметры!$B$11)^(B11-1) -> 19.77
A12: 11 | B12: =ROUNDUP(A12/12,0) -> 1 | C12: =VLOOKUP(A12,Параметры!$A$25:$C$84,3,FALSE) -> 0.8 | D12: =Параметры!$B$3*C12 -> 160000 | E12: =Параметры!$B$4*(1+Параметры!$B$10)^(B12-1) -> 45 | F12: =Себестоимость!$B$7*(1+Параметры!$B$11)^(B12-1) -> 19.77
A13: 12 | B13: =ROUNDUP(A13/12,0) -> 1 | C13: =VLOOKUP(A13,Параметры!$A$25:$C$84,3,FALSE) -> 0.8 | D13: =Параметры!$B$3*C13 -> 160000 | E13: =Параметры!$B$4*(1+Параметры!$B$10)^(B13-1) -> 45 | F13: =Себестоимость!$B$7*(1+Параметры!$B$11)^(B13-1) -> 19.77
... A61: 60 | B61: =ROUNDUP(A61/12,0) -> 5 | C61: =VLOOKUP(A61,Параметры!$A$25:$C$84,3,FALSE) -> 1 | D61: =Параметры!$B$3*C61 -> 200000 | E61: =Параметры!$B$4*(1+Параметры!$B$10)^(B61-1) -> 54.697781 | F61: =Себестоимость!$B$7*(1+Параметры!$B$11)^(B61-1) -> 24.030559

Sheet PL_мес
A1: Месяц | B1: Год | C1: Объем, кг | D1: Цена, руб/кг | E1: Выручка | F1: Себестоимость, руб/кг | G1: Сумма расходов | H1: Прибыль до налога | I1: Налог (факт) | J1: Чистая прибыль (факт)
A2: =План_мес!A2 -> 1 | B2: =План_мес!B2 -> 1 | C2: =План_мес!D2 -> 160000 | D2: =План_мес!E2 -> 45 | E2: =C2*D2 -> 7200000 | F2: =План_мес!F2 -> 19.77 | G2: =C2*F2 -> 3163200 | H2: =E2-G2 -> 4036800 | I2: =H2*Параметры!$B$6 -> 80736 | J2: =H2-I2 -> 3956064
A3: =План_мес!A3 -> 2 | B3: =План_мес!B3 -> 1 | C3: =План_мес!D3 -> 160000 | D3: =План_мес!E3 -> 45 | E3: =C3*D3 -> 7200000 | F3: =План_мес!F3 -> 19.77 | G3: =C3*F3 -> 3163200 | H3: =E3-G3 -> 4036800 | I3: =H3*Параметры!$B$6 -> 80736 | J3: =H3-I3 -> 3956064
A4: =План_мес!A4 -> 3 | B4: =План_мес!B4 -> 1 | C4: =План_мес!D4 -> 160000 | D4: =План_мес!E4 -> 45 | E4: =C4*D4 -> 7200000 | F4: =План_мес!F4 -> 19.77 | G4: =C4*F4 -> 3163200 | H4: =E4-G4 -> 4036800 | I4: =H4*Параметры!$B$6 -> 80736 | J4: =H4-I4 -> 3956064
A5: =План_мес!A5 -> 4 | B5: =План_мес!B5 -> 1 | C5: =План_мес!D5 -> 160000 | D5: =План_мес!E5 -> 45 | E5: =C5*D5 -> 7200000 | F5: =План_мес!F5 -> 19.77 | G5: =C5*F5 -> 3163200 | H5: =E5-G5 -> 4036800 | I5: =H5*Параметры!$B$6 -> 80736 | J5: =H5-I5 -> 3956064
A6: =План_мес!A6 -> 5 | B6: =План_мес!B6 -> 1 | C6: =План_мес!D6 -> 160000 | D6: =План_мес!E6 -> 45 | E6: =C6*D6 -> 7200000 | F6: =План_мес!F6 -> 19.77 | G6: =C6*F6 -> 3163200 | H6: =E6-G6 -> 4036800 | I6: =H6*Параметры!$B$6 -> 80736 | J6: =H6-I6 -> 3956064
A7: =План_мес!A7 -> 6 | B7: =План_мес!B7 -> 1 | C7: =План_мес!D7 -> 160000 | D7: =План_мес!E7 -> 45 | E7: =C7*D7 -> 7200000 | F7: =План_мес!F7 -> 19.77 | G7: =C7*F7 -> 3163200 | H7: =E7-G7 -> 4036800 | I7: =H7*Параметры!$B$6 -> 80736 | J7: =H7-I7 -> 3956064
A8: =План_мес!A8 -> 7 | B8: =План_мес!B8 -> 1 | C8: =План_мес!D8 -> 160000 | D8: =План_мес!E8 -> 45 | E8: =C8*D8 -> 7200000 | F8: =План_мес!F8 -> 19.77 | G8: =C8*F8 -> 3163200 | H8: =E8-G8 -> 4036800 | I8: =H8*Параметры!$B$6 -> 80736 | J8: =H8-I8 -> 3956064
A9: =План_мес!A9 -> 8 | B9: =План_мес!B9 -> 1 | C9: =План_мес!D9 -> 160000 | D9: =План_мес!E9 -> 45 | E9: =C9*D9 -> 7200000 | F9: =План_мес!F9 -> 19.77 | G9: =C9*F9 -> 3163200 | H9: =E9-G9 -> 4036800 | I9: =H9*Параметры!$B$6 -> 80736 | J9: =H9-I9 -> 3956064
A10: =План_мес!A10 -> 9 | B10: =План_мес!B10 -> 1 | C10: =План_мес!D10 -> 160000 | D10: =План_мес!E10 -> 45 | E10: =C10*D10 -> 7200000 | F10: =План_мес!F10 -> 19.77 | G10: =C10*F10 -> 3163200 | H10: =E10-G10 -> 4036800 | I10: =H10*Параметры!$B$6 -> 80736 | J10: =H10-I10 -> 3956064
A11: =План_мес!A11 -> 10 | B11: =План_мес!B11 -> 1 | C11: =План_мес!D11 -> 160000 | D11: =План_мес!E11 -> 45 | E11: =C11*D11 -> 7200000 | F11: =План_мес!F11 -> 19.77 | G11: =C11*F11 -> 3163200 | H11: =E11-G11 -> 4036800 | I11: =H11*Параметры!$B$6 -> 80736 | J11: =H11-I11 -> 3956064
A12: =План_мес!A12 -> 11 | B12: =План_мес!B12 -> 1 | C12: =План_мес!D12 -> 160000 | D12: =План_мес!E12 -> 45 | E12: =C12*D12 -> 7200000 | F12: =План_мес!F12 -> 19.77 | G12: =C12*F12 -> 3163200 | H12: =E12-G12 -> 4036800 | I12: =H12*Параметры!$B$6 -> 80736 | J12: =H12-I12 -> 3956064
A13: =План_мес!A13 -> 12 | B13: =План_мес!B13 -> 1 | C13: =План_мес!D13 -> 160000 | D13: =План_мес!E13 -> 45 | E13: =C13*D13 -> 7200000 | F13: =План_мес!F13 -> 19.77 | G13: =C13*F13 -> 3163200 | H13: =E13-G13 -> 4036800 | I13: =H13*Параметры!$B$6 -> 80736 | J13: =H13-I13 -> 3956064
... A61: =План_мес!A61 -> 60 | B61: =План_мес!B61 -> 5 | C61: =План_мес!D61 -> 200000 | D61: =План_мес!E61 -> 54.697781 | E61: =C61*D61 -> 10939556 | F61: =План_мес!F61 -> 24.030559 | G61: =C61*F61 -> 4806111.7 | H61: =E61-G61 -> 6133444.5 | I61: =H61*Параметры!$B$6 -> 122668.89 | J61: =H61-I61 -> 6010775.6

Sheet PL_год
A1: Год | B1: Выручка | C1: Расходы | D1: Прибыль до налога | E1: Налог (факт) | F1: Чистая прибыль (факт)
A2: 1 | B2: =SUMIF(PL_мес!$B:$B,A2,PL_мес!$E:$E) -> 86400000 | C2: =SUMIF(PL_мес!$B:$B,A2,PL_мес!$G:$G) -> 37958400 | D2: =B2-C2 -> 48441600 | E2: =SUMIF(PL_мес!$B:$B,A2,PL_мес!$I:$I) -> 968832 | F2: =SUMIF(PL_мес!$B:$B,A2,PL_мес!$J:$J) -> 47472768
A3: 2 | B3: =SUMIF(PL_мес!$B:$B,A3,PL_мес!$E:$E) -> 102060000 | C3: =SUMIF(PL_мес!$B:$B,A3,PL_мес!$G:$G) -> 44838360 | D3: =B3-C3 -> 57221640 | E3: =SUMIF(PL_мес!$B:$B,A3,PL_мес!$I:$I) -> 1144432.8 | F3: =SUMIF(PL_мес!$B:$B,A3,PL_мес!$J:$J) -> 56077207
A4: 3 | B4: =SUMIF(PL_мес!$B:$B,A4,PL_мес!$E:$E) -> 119070000 | C4: =SUMIF(PL_мес!$B:$B,A4,PL_мес!$G:$G) -> 52311420 | D4: =B4-C4 -> 66758580 | E4: =SUMIF(PL_мес!$B:$B,A4,PL_мес!$I:$I) -> 1335171.6 | F4: =SUMIF(PL_мес!$B:$B,A4,PL_мес!$J:$J) -> 65423408
A5: 4 | B5: =SUMIF(PL_мес!$B:$B,A5,PL_мес!$E:$E) -> 1.250235e+08 | C5: =SUMIF(PL_мес!$B:$B,A5,PL_мес!$G:$G) -> 54926991 | D5: =B5-C5 -> 70096509 | E5: =SUMIF(PL_мес!$B:$B,A5,PL_мес!$I:$I) -> 1401930.2 | F5: =SUMIF(PL_мес!$B:$B,A5,PL_мес!$J:$J) -> 68694579
A6: 5 | B6: =SUMIF(PL_мес!$B:$B,A6,PL_мес!$E:$E) -> 131274675 | C6: =SUMIF(PL_мес!$B:$B,A6,PL_мес!$G:$G) -> 57673341 | D6: =B6-C6 -> 73601334 | E6: =SUMIF(PL_мес!$B:$B,A6,PL_мес!$I:$I) -> 1472026.7 | F6: =SUMIF(PL_мес!$B:$B,A6,PL_мес!$J:$J) -> 72129308

Sheet Потоки
A1: Год | B1: Денежный поток
A2: 0 | B2: =-Параметры!B2 -> -170000000
A3: 1 | B3: =PL_год!F2 -> 47472768
A4: 2 | B4: =PL_год!F3 -> 56077207
A5: 3 | B5: =PL_год!F4 -> 65423408
A6: 4 | B6: =PL_год!F5 -> 68694579
A7: 5 | B7: =PL_год!F6 -> 72129308

Sheet Показатели
A2: Инвестиции | B2: =Параметры!B2 -> 170000000
A3: Среднегодовая чистая прибыль (годы 3-5), факт | B3: =AVERAGE(PL_год!F4:F6) -> 68749098
A4: Срок простой окупаемости, лет (факт) | B4: =B2/B3 -> 2.4727597
A6: Ставка дисконтирования, % | B6: 0.2
A7: NPV (факт, без кредита) | B7: =NPV(B6,Потоки!B3:B7)+Потоки!B2 -> 8479237.5
A8: IRR (факт, без кредита) | B8: =IRR(Потоки!B2:B7) -> 0.22079918

Sheet Кредит_мес
A1: Месяц | B1: Остаток на начало | C1: Месячная ставка | D1: Платеж аннуитет | E1: Проценты | F1: Погашение тела | G1: Остаток на конец
A2: 1 | B2: =Параметры!B19 -> 85000000 | C2: =Параметры!B17/12 -> 0.0125 | D2: =PMT(Параметры!B17/12,Параметры!B21,-Параметры!B19) -> 2022144.1 | E2: =B2*C2 -> 1062500 | F2: =D2-E2 -> 959644.06 | G2: =B2-F2 -> 84040356
A3: =A2+1 -> 2 | B3: =IF(A3<=Параметры!$B$21,G2,0) -> 84040356 | C3: =Параметры!B17/12 -> 0.0125 | D3: =IF(A3<=Параметры!$B$21,PMT(Параметры!B17/12,Параметры!B21,-Параметры!B19),0) -> 2022144.1 | E3: =B3*C3 -> 1050504.4 | F3: =D3-E3 -> 971639.61 | G3: =IF(A3<=Параметры!$B$21,B3-F3,0) -> 83068716
A4: =A3+1 -> 3 | B4: =IF(A4<=Параметры!$B$21,G3,0) -> 83068716 | C4: =Параметры!B17/12 -> 0.0125 | D4: =IF(A4<=Параметры!$B$21,PMT(Параметры!B17/12,Параметры!B21,-Параметры!B19),0) -> 2022144.1 | E4: =B4*C4 -> 1038359 | F4: =D4-E4 -> 983785.1 | G4: =IF(A4<=Параметры!$B$21,B4-F4,0) -> 82084931
A5: =A4+1 -> 4 | B5: =IF(A5<=Параметры!$B$21,G4,0) -> 82084931 | C5: =Параметры!B17/12 -> 0.0125 | D5: =IF(A5<=Параметры!$B$21,PMT(Параметры!B17/12,Параметры!B21,-Параметры!B19),0) -> 2022144.1 | E5: =B5*C5 -> 1026061.6 | F5: =D5-E5 -> 996082.42 | G5: =IF(A5<=Параметры!$B$21,B5-F5,0) -> 81088849
A6: =A5+1 -> 5 | B6: =IF(A6<=Параметры!$B$21,G5,0) -> 81088849 | C6: =Параметры!B17/12 -> 0.0125 | D6: =IF(A6<=Параметры!$B$21,PMT(Параметры!B17/12,Параметры!B21,-Параметры!B19),0) -> 2022144.1 | E6: =B6*C6 -> 1013610.6 | F6: =D6-E6 -> 1008533.4 | G6: =IF(A6<=Параметры!$B$21,B6-F6,0) -> 80080315
A7: =A6+1 -> 6 | B7: =IF(A7<=Параметры!$B$21,G6,0) -> 80080315 | C7: =Параметры!B17/12 -> 0.0125 | D7: =IF(A7<=Параметры!$B$21,PMT(Параметры!B17/12,Параметры!B21,-Параметры!B19),0) -> 2022144.1 | E7: =B7*C7 -> 1001003.9 | F7: =D7-E7 -> 1021140.1 | G7: =IF(A7<=Параметры!$B$21,B7-F7,0) -> 79059175
A8: =A7+1 -> 7 | B8: =IF(A8<=Параметры!$B$21,G7,0) -> 79059175 | C8: =Параметры!B17/12 -> 0.0125 | D8: =IF(A8<=Параметры!$B$21,PMT(Параметры!B17/12,Параметры!B21,-Параметры!B19),0) -> 2022144.1 | E8: =B8*C8 -> 988239.69 | F8: =D8-E8 -> 1033904.4 | G8: =IF(A8<=Параметры!$B$21,B8-F8,0) -> 78025271
A9: =A8+1 -> 8 | B9: =IF(A9<=Параметры!$B$21,G8,0) -> 78025271 | C9: =Параметры!B17/12 -> 0.0125 | D9: =IF(A9<=Параметры!$B$21,PMT(Параметры!B17/12,Параметры!B21,-Параметры!B19),0) -> 2022144.1 | E9: =B9*C9 -> 975315.89 | F9: =D9-E9 -> 1046828.2 | G9: =IF(A9<=Параметры!$B$21,B9-F9,0) -> 76978443
A10: =A9+1 -> 9 | B10: =IF(A10<=Параметры!$B$21,G9,0) -> 76978443 | C10: =Параметры!B17/12 -> 0.0125 | D10: =IF(A10<=Параметры!$B$21,PMT(Параметры!B17/12,Параметры!B21,-Параметры!B19),0) -> 2022144.1 | E10: =B10*C10 -> 962230.53 | F10: =D10-E10 -> 1059913.5 | G10: =IF(A10<=Параметры!$B$21,B10-F10,0) -> 75918529
A11: =A10+1 -> 10 | B11: =IF(A11<=Параметры!$B$21,G10,0) -> 75918529 | C11: =Параметры!B17/12 -> 0.0125 | D11: =IF(A11<=Параметры!$B$21,PMT(Параметры!B17/12,Параметры!B21,-Параметры!B19),0) -> 2022144.1 | E11: =B11*C11 -> 948981.61 | F11: =D11-E11 -> 1073162.4 | G11: =IF(A11<=Параметры!$B$21,B11-F11,0) -> 74845367
A12: =A11+1 -> 11 | B12: =IF(A12<=Параметры!$B$21,G11,0) -> 74845367 | C12: =Параметры!B17/12 -> 0.0125 | D12: =IF(A12<=Параметры!$B$21,PMT(Параметры!B17/12,Параметры!B21,-Параметры!B19),0) -> 2022144.1 | E12: =B12*C12 -> 935567.08 | F12: =D12-E12 -> 1086577 | G12: =IF(A12<=Параметры!$B$21,B12-F12,0) -> 73758790
A13: =A12+1 -> 12 | B13: =IF(A13<=Параметры!$B$21,G12,0) -> 73758790 | C13: =Параметры!B17/12 -> 0.0125 | D13: =IF(A13<=Параметры!$B$21,PMT(Параметры!B17/12,Параметры!B21,-Параметры!B19),0) -> 2022144.1 | E13: =B13*C13 -> 921984.87 | F13: =D13-E13 -> 1100159.2 | G13: =IF(A13<=Параметры!$B$21,B13-F13,0) -> 72658631
A14: =A13+1 -> 13 | B14: =IF(A14<=Параметры!$B$21,G13,0) -> 72658631 | C14: =Параметры!B17/12 -> 0.0125 | D14: =IF(A14<=Параметры!$B$21,PMT(Параметры!B17/12,Параметры!B21,-Параметры!B19),0) -> 2022144.1 | E14: =B14*C14 -> 908232.88 | F14: =D14-E14 -> 1113911.2 | G14: =IF(A14<=Параметры!$B$21,B14-F14,0) -> 71544719
A15: =A14+1 -> 14 | B15: =IF(A15<=Параметры!$B$21,G14,0) -> 71544719 | C15: =Параметры!B17/12 -> 0.0125 | D15: =IF(A15<=Параметры!$B$21,PMT(Параметры!B17/12,Параметры!B21,-Параметры!B19),0) -> 2022144.1 | E15: =B15*C15 -> 894308.99 | F15: =D15-E15 -> 1127835.1 | G15: =IF(A15<=Параметры!$B$21,B15-F15,0) -> 70416884
A16: =A15+1 -> 15 | B16: =IF(A16<=Параметры!$B$21,G15,0) -> 70416884 | C16: =Параметры!B17/12 -> 0.0125 | D16: =IF(A16<=Параметры!$B$21,PMT(Параметры!B17/12,Параметры!B21,-Параметры!B19),0) -> 2022144.1 | E16: =B16*C16 -> 880211.05 | F16: =D16-E16 -> 1141933 | G16: =IF(A16<=Параметры!$B$21,B16-F16,0) -> 69274951
A17: =A16+1 -> 16 | B17: =IF(A17<=Параметры!$B$21,G16,0) -> 69274951 | C17: =Параметры!B17/12 -> 0.0125 | D17: =IF(A17<=Параметры!$B$21,PMT(Параметры!B17/12,Параметры!B21,-Параметры!B19),0) -> 2022144.1 | E17: =B17*C17 -> 865936.89 | F17: =D17-E17 -> 1156207.2 | G17: =IF(A17<=Параметры!$B$21,B17-F17,0) -> 68118744
A18: =A17+1 -> 17 | B18: =IF(A18<=Параметры!$B$21,G17,0) -> 68118744 | C18: =Параметры!B17/12 -> 0.0125 | D18: =IF(A18<=Параметры!$B$21,PMT(Параметры!B17/12,Параметры!B21,-Параметры!B19),0) -> 2022144.1 | E18: =B18*C18 -> 851484.3 | F18: =D18-E18 -> 1170659.8 | G18: =IF(A18<=Параметры!$B$21,B18-F18,0) -> 66948084
A19: =A18+1 -> 18 | B19: =IF(A19<=Параметры!$B$21,G18,0) -> 66948084 | C19: =Параметры!B17/12 -> 0.0125 | D19: =IF(A19<=Параметры!$B$21,PMT(Параметры!B17/12,Параметры!B21,-Параметры!B19),0) -> 2022144.1 | E19: =B19*C19 -> 836851.06 | F19: =D19-E19 -> 1185293 | G19: =IF(A19<=Параметры!$B$21,B19-F19,0) -> 65762791
A20: =A19+1 -> 19 | B20: =IF(A20<=Параметры!$B$21,G19,0) -> 65762791 | C20: =Параметры!B17/12 -> 0.0125 | D20: =IF(A20<=Параметры!$B$21,PMT(Параметры!B17/12,Параметры!B21,-Параметры!B19),0) -> 2022144.1 | E20: =B20*C20 -> 822034.89 | F20: =D20-E20 -> 1200109.2 | G20: =IF(A20<=Параметры!$B$21,B20-F20,0) -> 64562682
A21: =A20+1 -> 20 | B21: =IF(A21<=Параметры!$B$21,G20,0) -> 64562682 | C21: =Параметры!B17/12 -> 0.0125 | D21: =IF(A21<=Параметры!$B$21,PMT(Параметры!B17/12,Параметры!B21,-Параметры!B19),0) -> 2022144.1 | E21: =B21*C21 -> 807033.53 | F21: =D21-E21 -> 1215110.5 | G21: =IF(A21<=Параметры!$B$21,B21-F21,0) -> 63347572
A22: =A21+1 -> 21 | B22: =IF(A22<=Параметры!$B$21,G21,0) -> 63347572 | C22: =Параметры!B17/12 -> 0.0125 | D22: =IF(A22<=Параметры!$B$21,PMT(Параметры!B17/12,Параметры!B21,-Параметры!B19),0) -> 2022144.1 | E22: =B22*C22 -> 791844.65 | F22: =D22-E22 -> 1230299.4 | G22: =IF(A22<=Параметры!$B$21,B22-F22,0) -> 62117272
A23: =A22+1 -> 22 | B23: =IF(A23<=Параметры!$B$21,G22,0) -> 62117272 | C23: =Параметры!B17/12 -> 0.0125 | D23: =IF(A23<=Параметры!$B$21,PMT(Параметры!B17/12,Параметры!B21,-Параметры!B19),0) -> 2022144.1 | E23: =B23*C23 -> 776465.9 | F23: =D23-E23 -> 1245678.2 | G23: =IF(A23<=Параметры!$B$21,B23-F23,0) -> 60871594
A24: =A23+1 -> 23 | B24: =IF(A24<=Параметры!$B$21,G23,0) -> 60871594 | C24: =Параметры!B17/12 -> 0.0125 | D24: =IF(A24<=Параметры!$B$21,PMT(Параметры!B17/12,Параметры!B21,-Параметры!B19),0) -> 2022144.1 | E24: =B24*C24 -> 760894.93 | F24: =D24-E24 -> 1261249.1 | G24: =IF(A24<=Параметры!$B$21,B24-F24,0) -> 59610345
A25: =A24+1 -> 24 | B25: =IF(A25<=Параметры!$B$21,G24,0) -> 59610345 | C25: =Параметры!B17/12 -> 0.0125 | D25: =IF(A25<=Параметры!$B$21,PMT(Параметры!B17/12,Параметры!B21,-Параметры!B19),0) -> 2022144.1 | E25: =B25*C25 -> 745129.31 | F25: =D25-E25 -> 1277014.7 | G25: =IF(A25<=Параметры!$B$21,B25-F25,0) -> 58333330
A26: =A25+1 -> 25 | B26: =IF(A26<=Параметры!$B$21,G25,0) -> 58333330 | C26: =Параметры!B17/12 -> 0.0125 | D26: =IF(A26<=Параметры!$B$21,PMT(Параметры!B17/12,Параметры!B21,-Параметры!B19),0) -> 2022144.1 | E26: =B26*C26 -> 729166.63 | F26: =D26-E26 -> 1292977.4 | G26: =IF(A26<=Параметры!$B$21,B26-F26,0) -> 57040353
A27: =A26+1 -> 26 | B27: =IF(A27<=Параметры!$B$21,G26,0) -> 57040353 | C27: =Параметры!B17/12 -> 0.0125 | D27: =IF(A27<=Параметры!$B$21,PMT(Параметры!B17/12,Параметры!B21,-Параметры!B19),0) -> 2022144.1 | E27: =B27*C27 -> 713004.41 | F27: =D27-E27 -> 1309139.6 | G27: =IF(A27<=Параметры!$B$21,B27-F27,0) -> 55731213
A28: =A27+1 -> 27 | B28: =IF(A28<=Параметры!$B$21,G27,0) -> 55731213 | C28: =Параметры!B17/12 -> 0.0125 | D28: =IF(A28<=Параметры!$B$21,PMT(Параметры!B17/12,Параметры!B21,-Параметры!B19),0) -> 2022144.1 | E28: =B28*C28 -> 696640.17 | F28: =D28-E28 -> 1325503.9 | G28: =IF(A28<=Параметры!$B$21,B28-F28,0) -> 54405709
A29: =A28+1 -> 28 | B29: =IF(A29<=Параметры!$B$21,G28,0) -> 54405709 | C29: =Параметры!B17/12 -> 0.0125 | D29: =IF(A29<=Параметры!$B$21,PMT(Параметры!B17/12,Параметры!B21,-Параметры!B19),0) -> 2022144.1 | E29: =B29*C29 -> 680071.37 | F29: =D29-E29 -> 1342072.7 | G29: =IF(A29<=Параметры!$B$21,B29-F29,0) -> 53063637
A30: =A29+1 -> 29 | B30: =IF(A30<=Параметры!$B$21,G29,0) -> 53063637 | C30: =Параметры!B17/12 -> 0.0125 | D30: =IF(A30<=Параметры!$B$21,PMT(Параметры!B17/12,Параметры!B21,-Параметры!B19),0) -> 2022144.1 | E30: =B30*C30 -> 663295.46 | F30: =D30-E30 -> 1358848.6 | G30: =IF(A30<=Параметры!$B$21,B30-F30,0) -> 51704788
A31: =A30+1 -> 30 | B31: =IF(A31<=Параметры!$B$21,G30,0) -> 51704788 | C31: =Параметры!B17/12 -> 0.0125 | D31: =IF(A31<=Параметры!$B$21,PMT(Параметры!B17/12,Параметры!B21,-Параметры!B19),0) -> 2022144.1 | E31: =B31*C31 -> 646309.85 | F31: =D31-E31 -> 1375834.2 | G31: =IF(A31<=Параметры!$B$21,B31-F31,0) -> 50328954
A32: =A31+1 -> 31 | B32: =IF(A32<=Параметры!$B$21,G31,0) -> 50328954 | C32: =Параметры!B17/12 -> 0.0125 | D32: =IF(A32<=Параметры!$B$21,PMT(Параметры!B17/12,Параметры!B21,-Параметры!B19),0) -> 2022144.1 | E32: =B32*C32 -> 629111.92 | F32: =D32-E32 -> 1393032.1 | G32: =IF(A32<=Параметры!$B$21,B32-F32,0) -> 48935922
A33: =A32+1 -> 32 | B33: =IF(A33<=Параметры!$B$21,G32,0) -> 48935922 | C33: =Параметры!B17/12 -> 0.0125 | D33: =IF(A33<=Параметры!$B$21,PMT(Параметры!B17/12,Параметры!B21,-Параметры!B19),0) -> 2022144.1 | E33: =B33*C33 -> 611699.02 | F33: =D33-E33 -> 1410445 | G33: =IF(A33<=Параметры!$B$21,B33-F33,0) -> 47525477
A34: =A33+1 -> 33 | B34: =IF(A34<=Параметры!$B$21,G33,0) -> 47525477 | C34: =Параметры!B17/12 -> 0.0125 | D34: =IF(A34<=Параметры!$B$21,PMT(Параметры!B17/12,Параметры!B21,-Параметры!B19),0) -> 2022144.1 | E34: =B34*C34 -> 594068.46 | F34: =D34-E34 -> 1428075.6 | G34: =IF(A34<=Параметры!$B$21,B34-F34,0) -> 46097401
A35: =A34+1 -> 34 | B35: =IF(A35<=Параметры!$B$21,G34,0) -> 46097401 | C35: =Параметры!B17/12 -> 0.0125 | D35: =IF(A35<=Параметры!$B$21,PMT(Параметры!B17/12,Параметры!B21,-Параметры!B19),0) -> 2022144.1 | E35: =B35*C35 -> 576217.51 | F35: =D35-E35 -> 1445926.5 | G35: =IF(A35<=Параметры!$B$21,B35-F35,0) -> 44651475
A36: =A35+1 -> 35 | B36: =IF(A36<=Параметры!$B$21,G35,0) -> 44651475 | C36: =Параметры!B17/12 -> 0.0125 | D36: =IF(A36<=Параметры!$B$21,PMT(Параметры!B17/12,Параметры!B21,-Параметры!B19),0) -> 2022144.1 | E36: =B36*C36 -> 558143.43 | F36: =D36-E36 -> 1464000.6 | G36: =IF(A36<=Параметры!$B$21,B36-F36,0) -> 43187474
A37: =A36+1 -> 36 | B37: =IF(A37<=Параметры!$B$21,G36,0) -> 43187474 | C37: =Параметры!B17/12 -> 0.0125 | D37: =IF(A37<=Параметры!$B$21,PMT(Параметры!B17/12,Параметры!B21,-Параметры!B19),0) -> 2022144.1 | E37: =B37*C37 -> 539843.42 | F37: =D37-E37 -> 1482300.6 | G37: =IF(A37<=Параметры!$B$21,B37-F37,0) -> 41705173
A38: =A37+1 -> 37 | B38: =IF(A38<=Параметры!$B$21,G37,0) -> 41705173 | C38: =Параметры!B17/12 -> 0.0125 | D38: =IF(A38<=Параметры!$B$21,PMT(Параметры!B17/12,Параметры!B21,-Параметры!B19),0) -> 2022144.1 | E38: =B38*C38 -> 521314.67 | F38: =D38-E38 -> 1500829.4 | G38: =IF(A38<=Параметры!$B$21,B38-F38,0) -> 40204344
A39: =A38+1 -> 38 | B39: =IF(A39<=Параметры!$B$21,G38,0) -> 40204344 | C39: =Параметры!B17/12 -> 0.0125 | D39: =IF(A39<=Параметры!$B$21,PMT(Параметры!B17/12,Параметры!B21,-Параметры!B19),0) -> 2022144.1 | E39: =B39*C39 -> 502554.3 | F39: =D39-E39 -> 1519589.8 | G39: =IF(A39<=Параметры!$B$21,B39-F39,0) -> 38684754
A40: =A39+1 -> 39 | B40: =IF(A40<=Параметры!$B$21,G39,0) -> 38684754 | C40: =Параметры!B17/12 -> 0.0125 | D40: =IF(A40<=Параметры!$B$21,PMT(Параметры!B17/12,Параметры!B21,-Параметры!B19),0) -> 2022144.1 | E40: =B40*C40 -> 483559.43 | F40: =D40-E40 -> 1538584.6 | G40: =IF(A40<=Параметры!$B$21,B40-F40,0) -> 37146169
...

Sheet PL_мес_кредит
A1: Месяц | B1: Год | C1: Объем, кг | D1: Цена, руб/кг | E1: Выручка | F1: Себестоимость, руб/кг | G1: Сумма расходов | H1: Прибыль до налога до процентов | I1: Проценты по кредиту | J1: Прибыль до налога | K1: Налог (факт) | L1: Чистая прибыль (факт)
A2: =PL_мес!A2 -> 1 | B2: =PL_мес!B2 -> 1 | C2: =PL_мес!C2 -> 160000 | D2: =PL_мес!D2 -> 45 | E2: =PL_мес!E2 -> 7200000 | F2: =PL_мес!F2 -> 19.77 | G2: =PL_мес!G2 -> 3163200 | H2: =PL_мес!H2 -> 4036800 | I2: =IF(1<=Параметры!$B$21,INDEX(Кредит_мес!$E$2:$E$61,1),0) -> 1062500 | J2: =H2-I2 -> 2974300 | K2: =J2*Параметры!$B$6 -> 59486 | L2: =J2-K2 -> 2914814
A3: =PL_мес!A3 -> 2 | B3: =PL_мес!B3 -> 1 | C3: =PL_мес!C3 -> 160000 | D3: =PL_мес!D3 -> 45 | E3: =PL_мес!E3 -> 7200000 | F3: =PL_мес!F3 -> 19.77 | G3: =PL_мес!G3 -> 3163200 | H3: =PL_мес!H3 -> 4036800 | I3: =IF(2<=Параметры!$B$21,INDEX(Кредит_мес!$E$2:$E$61,2),0) -> 1050504.4 | J3: =H3-I3 -> 2986295.6 | K3: =J3*Параметры!$B$6 -> 59725.911 | L3: =J3-K3 -> 2926569.6
A4: =PL_мес!A4 -> 3 | B4: =PL_мес!B4 -> 1 | C4: =PL_мес!C4 -> 160000 | D4: =PL_мес!D4 -> 45 | E4: =PL_мес!E4 -> 7200000 | F4: =PL_мес!F4 -> 19.77 | G4: =PL_мес!G4 -> 3163200 | H4: =PL_мес!H4 -> 4036800 | I4: =IF(3<=Параметры!$B$21,INDEX(Кредит_мес!$E$2:$E$61,3),0) -> 1038359 | J4: =H4-I4 -> 2998441 | K4: =J4*Параметры!$B$6 -> 59968.821 | L4: =J4-K4 -> 2938472.2
A5: =PL_мес!A5 -> 4 | B5: =PL_мес!B5 -> 1 | C5: =PL_мес!C5 -> 160000 | D5: =PL_мес!D5 -> 45 | E5: =PL_мес!E5 -> 7200000 | F5: =PL_мес!F5 -> 19.77 | G5: =PL_мес!G5 -> 3163200 | H5: =PL_мес!H5 -> 4036800 | I5: =IF(4<=Параметры!$B$21,INDEX(Кредит_мес!$E$2:$E$61,4),0) -> 1026061.6 | J5: =H5-I5 -> 3010738.4 | K5: =J5*Параметры!$B$6 -> 60214.767 | L5: =J5-K5 -> 2950523.6
A6: =PL_мес!A6 -> 5 | B6: =PL_мес!B6 -> 1 | C6: =PL_мес!C6 -> 160000 | D6: =PL_мес!D6 -> 45 | E6: =PL_мес!E6 -> 7200000 | F6: =PL_мес!F6 -> 19.77 | G6: =PL_мес!G6 -> 3163200 | H6: =PL_мес!H6 -> 4036800 | I6: =IF(5<=Параметры!$B$21,INDEX(Кредит_мес!$E$2:$E$61,5),0) -> 1013610.6 | J6: =H6-I6 -> 3023189.4 | K6: =J6*Параметры!$B$6 -> 60463.788 | L6: =J6-K6 -> 2962725.6
A7: =PL_мес!A7 -> 6 | B7: =PL_мес!B7 -> 1 | C7: =PL_мес!C7 -> 160000 | D7: =PL_мес!D7 -> 45 | E7: =PL_мес!E7 -> 7200000 | F7: =PL_мес!F7 -> 19.77 | G7: =PL_мес!G7 -> 3163200 | H7: =PL_мес!H7 -> 4036800 | I7: =IF(6<=Параметры!$B$21,INDEX(Кредит_мес!$E$2:$E$61,6),0) -> 1001003.9 | J7: =H7-I7 -> 3035796.1 | K7: =J7*Параметры!$B$6 -> 60715.921 | L7: =J7-K7 -> 2975080.1
A8: =PL_мес!A8 -> 7 | B8: =PL_мес!B8 -> 1 | C8: =PL_мес!C8 -> 160000 | D8: =PL_мес!D8 -> 45 | E8: =PL_мес!E8 -> 7200000 | F8: =PL_мес!F8 -> 19.77 | G8: =PL_мес!G8 -> 3163200 | H8: =PL_мес!H8 -> 4036800 | I8: =IF(7<=Параметры!$B$21,INDEX(Кредит_мес!$E$2:$E$61,7),0) -> 988239.69 | J8: =H8-I8 -> 3048560.3 | K8: =J8*Параметры!$B$6 -> 60971.206 | L8: =J8-K8 -> 2987589.1
A9: =PL_мес!A9 -> 8 | B9: =PL_мес!B9 -> 1 | C9: =PL_мес!C9 -> 160000 | D9: =PL_мес!D9 -> 45 | E9: =PL_мес!E9 -> 7200000 | F9: =PL_мес!F9 -> 19.77 | G9: =PL_мес!G9 -> 3163200 | H9: =PL_мес!H9 -> 4036800 | I9: =IF(8<=Параметры!$B$21,INDEX(Кредит_мес!$E$2:$E$61,8),0) -> 975315.89 | J9: =H9-I9 -> 3061484.1 | K9: =J9*Параметры!$B$6 -> 61229.682 | L9: =J9-K9 -> 3000254.4
A10: =PL_мес!A10 -> 9 | B10: =PL_мес!B10 -> 1 | C10: =PL_мес!C10 -> 160000 | D10: =PL_мес!D10 -> 45 | E10: =PL_мес!E10 -> 7200000 | F10: =PL_мес!F10 -> 19.77 | G10: =PL_мес!G10 -> 3163200 | H10: =PL_мес!H10 -> 4036800 | I10: =IF(9<=Параметры!$B$21,INDEX(Кредит_мес!$E$2:$E$61,9),0) -> 962230.53 | J10: =H10-I10 -> 3074569.5 | K10: =J10*Параметры!$B$6 -> 61491.389 | L10: =J10-K10 -> 3013078.1
A11: =PL_мес!A11 -> 10 | B11: =PL_мес!B11 -> 1 | C11: =PL_мес!C11 -> 160000 | D11: =PL_мес!D11 -> 45 | E11: =PL_мес!E11 -> 7200000 | F11: =PL_мес!F11 -> 19.77 | G11: =PL_мес!G11 -> 3163200 | H11: =PL_мес!H11 -> 4036800 | I11: =IF(10<=Параметры!$B$21,INDEX(Кредит_мес!$E$2:$E$61,10),0) -> 948981.61 | J11: =H11-I11 -> 3087818.4 | K11: =J11*Параметры!$B$6 -> 61756.368 | L11: =J11-K11 -> 3026062
A12: =PL_мес!A12 -> 11 | B12: =PL_мес!B12 -> 1 | C12: =PL_мес!C12 -> 160000 | D12: =PL_мес!D12 -> 45 | E12: =PL_мес!E12 -> 7200000 | F12: =PL_мес!F12 -> 19.77 | G12: =PL_мес!G12 -> 3163200 | H12: =PL_мес!H12 -> 4036800 | I12: =IF(11<=Параметры!$B$21,INDEX(Кредит_мес!$E$2:$E$61,11),0) -> 935567.08 | J12: =H12-I12 -> 3101232.9 | K12: =J12*Параметры!$B$6 -> 62024.658 | L12: =J12-K12 -> 3039208.3
A13: =PL_мес!A13 -> 12 | B13: =PL_мес!B13 -> 1 | C13: =PL_мес!C13 -> 160000 | D13: =PL_мес!D13 -> 45 | E13: =PL_мес!E13 -> 7200000 | F13: =PL_мес!F13 -> 19.77 | G13: =PL_мес!G13 -> 3163200 | H13: =PL_мес!H13 -> 4036800 | I13: =IF(12<=Параметры!$B$21,INDEX(Кредит_мес!$E$2:$E$61,12),0) -> 921984.87 | J13: =H13-I13 -> 3114815.1 | K13: =J13*Параметры!$B$6 -> 62296.303 | L13: =J13-K13 -> 3052518.8
A14: =PL_мес!A14 -> 13 | B14: =PL_мес!B14 -> 2 | C14: =PL_мес!C14 -> 180000 | D14: =PL_мес!D14 -> 47.25 | E14: =PL_мес!E14 -> 8505000 | F14: =PL_мес!F14 -> 20.7585 | G14: =PL_мес!G14 -> 3736530 | H14: =PL_мес!H14 -> 4768470 | I14: =IF(13<=Параметры!$B$21,INDEX(Кредит_мес!$E$2:$E$61,13),0) -> 908232.88 | J14: =H14-I14 -> 3860237.1 | K14: =J14*Параметры!$B$6 -> 77204.742 | L14: =J14-K14 -> 3783032.4
A15: =PL_мес!A15 -> 14 | B15: =PL_мес!B15 -> 2 | C15: =PL_мес!C15 -> 180000 | D15: =PL_мес!D15 -> 47.25 | E15: =PL_мес!E15 -> 8505000 | F15: =PL_мес!F15 -> 20.7585 | G15: =PL_мес!G15 -> 3736530 | H15: =PL_мес!H15 -> 4768470 | I15: =IF(14<=Параметры!$B$21,INDEX(Кредит_мес!$E$2:$E$61,14),0) -> 894308.99 | J15: =H15-I15 -> 3874161 | K15: =J15*Параметры!$B$6 -> 77483.22 | L15: =J15-K15 -> 3796677.8
A16: =PL_мес!A16 -> 15 | B16: =PL_мес!B16 -> 2 | C16: =PL_мес!C16 -> 180000 | D16: =PL_мес!D16 -> 47.25 | E16: =PL_мес!E16 -> 8505000 | F16: =PL_мес!F16 -> 20.7585 | G16: =PL_мес!G16 -> 3736530 | H16: =PL_мес!H16 -> 4768470 | I16: =IF(15<=Параметры!$B$21,INDEX(Кредит_мес!$E$2:$E$61,15),0) -> 880211.05 | J16: =H16-I16 -> 3888258.9 | K16: =J16*Параметры!$B$6 -> 77765.179 | L16: =J16-K16 -> 3810493.8
A17: =PL_мес!A17 -> 16 | B17: =PL_мес!B17 -> 2 | C17: =PL_мес!C17 -> 180000 | D17: =PL_мес!D17 -> 47.25 | E17: =PL_мес!E17 -> 8505000 | F17: =PL_мес!F17 -> 20.7585 | G17: =PL_мес!G17 -> 3736530 | H17: =PL_мес!H17 -> 4768470 | I17: =IF(16<=Параметры!$B$21,INDEX(Кредит_мес!$E$2:$E$61,16),0) -> 865936.89 | J17: =H17-I17 -> 3902533.1 | K17: =J17*Параметры!$B$6 -> 78050.662 | L17: =J17-K17 -> 3824482.4
A18: =PL_мес!A18 -> 17 | B18: =PL_мес!B18 -> 2 | C18: =PL_мес!C18 -> 180000 | D18: =PL_мес!D18 -> 47.25 | E18: =PL_мес!E18 -> 8505000 | F18: =PL_мес!F18 -> 20.7585 | G18: =PL_мес!G18 -> 3736530 | H18: =PL_мес!H18 -> 4768470 | I18: =IF(17<=Параметры!$B$21,INDEX(Кредит_мес!$E$2:$E$61,17),0) -> 851484.3 | J18: =H18-I18 -> 3916985.7 | K18: =J18*Параметры!$B$6 -> 78339.714 | L18: =J18-K18 -> 3838646
A19: =PL_мес!A19 -> 18 | B19: =PL_мес!B19 -> 2 | C19: =PL_мес!C19 -> 180000 | D19: =PL_мес!D19 -> 47.25 | E19: =PL_мес!E19 -> 8505000 | F19: =PL_мес!F19 -> 20.7585 | G19: =PL_мес!G19 -> 3736530 | H19: =PL_мес!H19 -> 4768470 | I19: =IF(18<=Параметры!$B$21,INDEX(Кредит_мес!$E$2:$E$61,18),0) -> 836851.06 | J19: =H19-I19 -> 3931618.9 | K19: =J19*Параметры!$B$6 -> 78632.379 | L19: =J19-K19 -> 3852986.6
A20: =PL_мес!A20 -> 19 | B20: =PL_мес!B20 -> 2 | C20: =PL_мес!C20 -> 180000 | D20: =PL_мес!D20 -> 47.25 | E20: =PL_мес!E20 -> 8505000 | F20: =PL_мес!F20 -> 20.7585 | G20: =PL_мес!G20 -> 3736530 | H20: =PL_мес!H20 -> 4768470 | I20: =IF(19<=Параметры!$B$21,INDEX(Кредит_мес!$E$2:$E$61,19),0) -> 822034.89 | J20: =H20-I20 -> 3946435.1 | K20: =J20*Параметры!$B$6 -> 78928.702 | L20: =J20-K20 -> 3867506.4
A21: =PL_мес!A21 -> 20 | B21: =PL_мес!B21 -> 2 | C21: =PL_мес!C21 -> 180000 | D21: =PL_мес!D21 -> 47.25 | E21: =PL_мес!E21 -> 8505000 | F21: =PL_мес!F21 -> 20.7585 | G21: =PL_мес!G21 -> 3736530 | H21: =PL_мес!H21 -> 4768470 | I21: =IF(20<=Параметры!$B$21,INDEX(Кредит_мес!$E$2:$E$61,20),0) -> 807033.53 | J21: =H21-I21 -> 3961436.5 | K21: =J21*Параметры!$B$6 -> 79228.729 | L21: =J21-K21 -> 3882207.7
A22: =PL_мес!A22 -> 21 | B22: =PL_мес!B22 -> 2 | C22: =PL_мес!C22 -> 180000 | D22: =PL_мес!D22 -> 47.25 | E22: =PL_мес!E22 -> 8505000 | F22: =PL_мес!F22 -> 20.7585 | G22: =PL_мес!G22 -> 3736530 | H22: =PL_мес!H22 -> 4768470 | I22: =IF(21<=Параметры!$B$21,INDEX(Кредит_мес!$E$2:$E$61,21),0) -> 791844.65 | J22: =H22-I22 -> 3976625.4 | K22: =J22*Параметры!$B$6 -> 79532.507 | L22: =J22-K22 -> 3897092.8
A23: =PL_мес!A23 -> 22 | B23: =PL_мес!B23 -> 2 | C23: =PL_мес!C23 -> 180000 | D23: =PL_мес!D23 -> 47.25 | E23: =PL_мес!E23 -> 8505000 | F23: =PL_мес!F23 -> 20.7585 | G23: =PL_мес!G23 -> 3736530 | H23: =PL_мес!H23 -> 4768470 | I23: =IF(22<=Параметры!$B$21,INDEX(Кредит_мес!$E$2:$E$61,22),0) -> 776465.9 | J23: =H23-I23 -> 3992004.1 | K23: =J23*Параметры!$B$6 -> 79840.082 | L23: =J23-K23 -> 3912164
A24: =PL_мес!A24 -> 23 | B24: =PL_мес!B24 -> 2 | C24: =PL_мес!C24 -> 180000 | D24: =PL_мес!D24 -> 47.25 | E24: =PL_мес!E24 -> 8505000 | F24: =PL_мес!F24 -> 20.7585 | G24: =PL_мес!G24 -> 3736530 | H24: =PL_мес!H24 -> 4768470 | I24: =IF(23<=Параметры!$B$21,INDEX(Кредит_мес!$E$2:$E$61,23),0) -> 760894.93 | J24: =H24-I24 -> 4007575.1 | K24: =J24*Параметры!$B$6 -> 80151.501 | L24: =J24-K24 -> 3927423.6
A25: =PL_мес!A25 -> 24 | B25: =PL_мес!B25 -> 2 | C25: =PL_мес!C25 -> 180000 | D25: =PL_мес!D25 -> 47.25 | E25: =PL_мес!E25 -> 8505000 | F25: =PL_мес!F25 -> 20.7585 | G25: =PL_мес!G25 -> 3736530 | H25: =PL_мес!H25 -> 4768470 | I25: =IF(24<=Параметры!$B$21,INDEX(Кредит_мес!$E$2:$E$61,24),0) -> 745129.31 | J25: =H25-I25 -> 4023340.7 | K25: =J25*Параметры!$B$6 -> 80466.814 | L25: =J25-K25 -> 3942873.9
A26: =PL_мес!A26 -> 25 | B26: =PL_мес!B26 -> 3 | C26: =PL_мес!C26 -> 200000 | D26: =PL_мес!D26 -> 49.6125 | E26: =PL_мес!E26 -> 9922500 | F26: =PL_мес!F26 -> 21.796425 | G26: =PL_мес!G26 -> 4359285 | H26: =PL_мес!H26 -> 5563215 | I26: =IF(25<=Параметры!$B$21,INDEX(Кредит_мес!$E$2:$E$61,25),0) -> 729166.63 | J26: =H26-I26 -> 4834048.4 | K26: =J26*Параметры!$B$6 -> 96680.967 | L26: =J26-K26 -> 4737367.4
A27: =PL_мес!A27 -> 26 | B27: =PL_мес!B27 -> 3 | C27: =PL_мес!C27 -> 200000 | D27: =PL_мес!D27 -> 49.6125 | E27: =PL_мес!E27 -> 9922500 | F27: =PL_мес!F27 -> 21.796425 | G27: =PL_мес!G27 -> 4359285 | H27: =PL_мес!H27 -> 5563215 | I27: =IF(26<=Параметры!$B$21,INDEX(Кредит_мес!$E$2:$E$61,26),0) -> 713004.41 | J27: =H27-I27 -> 4850210.6 | K27: =J27*Параметры!$B$6 -> 97004.212 | L27: =J27-K27 -> 4753206.4
A28: =PL_мес!A28 -> 27 | B28: =PL_мес!B28 -> 3 | C28: =PL_мес!C28 -> 200000 | D28: =PL_мес!D28 -> 49.6125 | E28: =PL_мес!E28 -> 9922500 | F28: =PL_мес!F28 -> 21.796425 | G28: =PL_мес!G28 -> 4359285 | H28: =PL_мес!H28 -> 5563215 | I28: =IF(27<=Параметры!$B$21,INDEX(Кредит_мес!$E$2:$E$61,27),0) -> 696640.17 | J28: =H28-I28 -> 4866574.8 | K28: =J28*Параметры!$B$6 -> 97331.497 | L28: =J28-K28 -> 4769243.3
A29: =PL_мес!A29 -> 28 | B29: =PL_мес!B29 -> 3 | C29: =PL_мес!C29 -> 200000 | D29: =PL_мес!D29 -> 49.6125 | E29: =PL_мес!E29 -> 9922500 | F29: =PL_мес!F29 -> 21.796425 | G29: =PL_мес!G29 -> 4359285 | H29: =PL_мес!H29 -> 5563215 | I29: =IF(28<=Параметры!$B$21,INDEX(Кредит_мес!$E$2:$E$61,28),0) -> 680071.37 | J29: =H29-I29 -> 4883143.6 | K29: =J29*Параметры!$B$6 -> 97662.873 | L29: =J29-K29 -> 4785480.8
A30: =PL_мес!A30 -> 29 | B30: =PL_мес!B30 -> 3 | C30: =PL_мес!C30 -> 200000 | D30: =PL_мес!D30 -> 49.6125 | E30: =PL_мес!E30 -> 9922500 | F30: =PL_мес!F30 -> 21.796425 | G30: =PL_мес!G30 -> 4359285 | H30: =PL_мес!H30 -> 5563215 | I30: =IF(29<=Параметры!$B$21,INDEX(Кредит_мес!$E$2:$E$61,29),0) -> 663295.46 | J30: =H30-I30 -> 4899919.5 | K30: =J30*Параметры!$B$6 -> 97998.391 | L30: =J30-K30 -> 4801921.2
A31: =PL_мес!A31 -> 30 | B31: =PL_мес!B31 -> 3 | C31: =PL_мес!C31 -> 200000 | D31: =PL_мес!D31 -> 49.6125 | E31: =PL_мес!E31 -> 9922500 | F31: =PL_мес!F31 -> 21.796425 | G31: =PL_мес!G31 -> 4359285 | H31: =PL_мес!H31 -> 5563215 | I31: =IF(30<=Параметры!$B$21,INDEX(Кредит_мес!$E$2:$E$61,30),0) -> 646309.85 | J31: =H31-I31 -> 4916905.1 | K31: =J31*Параметры!$B$6 -> 98338.103 | L31: =J31-K31 -> 4818567
A32: =PL_мес!A32 -> 31 | B32: =PL_мес!B32 -> 3 | C32: =PL_мес!C32 -> 200000 | D32: =PL_мес!D32 -> 49.6125 | E32: =PL_мес!E32 -> 9922500 | F32: =PL_мес!F32 -> 21.796425 | G32: =PL_мес!G32 -> 4359285 | H32: =PL_мес!H32 -> 5563215 | I32: =IF(31<=Параметры!$B$21,INDEX(Кредит_мес!$E$2:$E$61,31),0) -> 629111.92 | J32: =H32-I32 -> 4934103.1 | K32: =J32*Параметры!$B$6 -> 98682.062 | L32: =J32-K32 -> 4835421
A33: =PL_мес!A33 -> 32 | B33: =PL_мес!B33 -> 3 | C33: =PL_мес!C33 -> 200000 | D33: =PL_мес!D33 -> 49.6125 | E33: =PL_мес!E33 -> 9922500 | F33: =PL_мес!F33 -> 21.796425 | G33: =PL_мес!G33 -> 4359285 | H33: =PL_мес!H33 -> 5563215 | I33: =IF(32<=Параметры!$B$21,INDEX(Кредит_мес!$E$2:$E$61,32),0) -> 611699.02 | J33: =H33-I33 -> 4951516 | K33: =J33*Параметры!$B$6 -> 99030.32 | L33: =J33-K33 -> 4852485.7
A34: =PL_мес!A34 -> 33 | B34: =PL_мес!B34 -> 3 | C34: =PL_мес!C34 -> 200000 | D34: =PL_мес!D34 -> 49.6125 | E34: =PL_мес!E34 -> 9922500 | F34: =PL_мес!F34 -> 21.796425 | G34: =PL_мес!G34 -> 4359285 | H34: =PL_мес!H34 -> 5563215 | I34: =IF(33<=Параметры!$B$21,INDEX(Кредит_мес!$E$2:$E$61,33),0) -> 594068.46 | J34: =H34-I34 -> 4969146.5 | K34: =J34*Параметры!$B$6 -> 99382.931 | L34: =J34-K34 -> 4869763.6
A35: =PL_мес!A35 -> 34 | B35: =PL_мес!B35 -> 3 | C35: =PL_мес!C35 -> 200000 | D35: =PL_мес!D35 -> 49.6125 | E35: =PL_мес!E35 -> 9922500 | F35: =PL_мес!F35 -> 21.796425 | G35: =PL_мес!G35 -> 4359285 | H35: =PL_мес!H35 -> 5563215 | I35: =IF(34<=Параметры!$B$21,INDEX(Кредит_мес!$E$2:$E$61,34),0) -> 576217.51 | J35: =H35-I35 -> 4986997.5 | K35: =J35*Параметры!$B$6 -> 99739.95 | L35: =J35-K35 -> 4887257.5
A36: =PL_мес!A36 -> 35 | B36: =PL_мес!B36 -> 3 | C36: =PL_мес!C36 -> 200000 | D36: =PL_мес!D36 -> 49.6125 | E36: =PL_мес!E36 -> 9922500 | F36: =PL_мес!F36 -> 21.796425 | G36: =PL_мес!G36 -> 4359285 | H36: =PL_мес!H36 -> 5563215 | I36: =IF(35<=Параметры!$B$21,INDEX(Кредит_мес!$E$2:$E$61,35),0) -> 558143.43 | J36: =H36-I36 -> 5005071.6 | K36: =J36*Параметры!$B$6 -> 100101.43 | L36: =J36-K36 -> 4904970.1
A37: =PL_мес!A37 -> 36 | B37: =PL_мес!B37 -> 3 | C37: =PL_мес!C37 -> 200000 | D37: =PL_мес!D37 -> 49.6125 | E37: =PL_мес!E37 -> 9922500 | F37: =PL_мес!F37 -> 21.796425 | G37: =PL_мес!G37 -> 4359285 | H37: =PL_мес!H37 -> 5563215 | I37: =IF(36<=Параметры!$B$21,INDEX(Кредит_мес!$E$2:$E$61,36),0) -> 539843.42 | J37: =H37-I37 -> 5023371.6 | K37: =J37*Параметры!$B$6 -> 100467.43 | L37: =J37-K37 -> 4922904.1
A38: =PL_мес!A38 -> 37 | B38: =PL_мес!B38 -> 4 | C38: =PL_мес!C38 -> 200000 | D38: =PL_мес!D38 -> 52.093125 | E38: =PL_мес!E38 -> 10418625 | F38: =PL_мес!F38 -> 22.886246 | G38: =PL_мес!G38 -> 4577249.3 | H38: =PL_мес!H38 -> 5841375.8 | I38: =IF(37<=Параметры!$B$21,INDEX(Кредит_мес!$E$2:$E$61,37),0) -> 521314.67 | J38: =H38-I38 -> 5320061.1 | K38: =J38*Параметры!$B$6 -> 106401.22 | L38: =J38-K38 -> 5213659.9
A39: =PL_мес!A39 -> 38 | B39: =PL_мес!B39 -> 4 | C39: =PL_мес!C39 -> 200000 | D39: =PL_мес!D39 -> 52.093125 | E39: =PL_мес!E39 -> 10418625 | F39: =PL_мес!F39 -> 22.886246 | G39: =PL_мес!G39 -> 4577249.3 | H39: =PL_мес!H39 -> 5841375.8 | I39: =IF(38<=Параметры!$B$21,INDEX(Кредит_мес!$E$2:$E$61,38),0) -> 502554.3 | J39: =H39-I39 -> 5338821.5 | K39: =J39*Параметры!$B$6 -> 106776.43 | L39: =J39-K39 -> 5232045
A40: =PL_мес!A40 -> 39 | B40: =PL_мес!B40 -> 4 | C40: =PL_мес!C40 -> 200000 | D40: =PL_мес!D40 -> 52.093125 | E40: =PL_мес!E40 -> 10418625 | F40: =PL_мес!F40 -> 22.886246 | G40: =PL_мес!G40 -> 4577249.3 | H40: =PL_мес!H40 -> 5841375.8 | I40: =IF(39<=Параметры!$B$21,INDEX(Кредит_мес!$E$2:$E$61,39),0) -> 483559.43 | J40: =H40-I40 -> 5357816.3 | K40: =J40*Параметры!$B$6 -> 107156.33 | L40: =J40-K40 -> 5250660
...

Sheet PL_год_кредит
A1: Год | B1: Выручка | C1: Расходы | D1: Прибыль до налога до процентов | E1: Проценты по кредиту | F1: Прибыль до налога | G1: Налог (факт) | H1: Чистая прибыль (факт)
A2: 1 | B2: =SUMIF(PL_мес_кредит!$B:$B,A2,PL_мес_кредит!$E:$E) -> 86400000 | C2: =SUMIF(PL_мес_кредит!$B:$B,A2,PL_мес_кредит!$G:$G) -> 37958400 | D2: =SUMIF(PL_мес_кредит!$B:$B,A2,PL_мес_кредит!$H:$H) -> 48441600 | E2: =SUMIF(PL_мес_кредит!$B:$B,A2,PL_мес_кредит!$I:$I) -> 11924359 | F2: =D2-E2 -> 36517241 | G2: =SUMIF(PL_мес_кредит!$B:$B,A2,PL_мес_кредит!$K:$K) -> 730344.81 | H2: =SUMIF(PL_мес_кредит!$B:$B,A2,PL_мес_кредит!$L:$L) -> 35786896
A3: 2 | B3: =SUMIF(PL_мес_кредит!$B:$B,A3,PL_мес_кредит!$E:$E) -> 102060000 | C3: =SUMIF(PL_мес_кредит!$B:$B,A3,PL_мес_кредит!$G:$G) -> 44838360 | D3: =SUMIF(PL_мес_кредит!$B:$B,A3,PL_мес_кредит!$H:$H) -> 57221640 | E3: =SUMIF(PL_мес_кредит!$B:$B,A3,PL_мес_кредит!$I:$I) -> 9940428.4 | F3: =D3-E3 -> 47281212 | G3: =SUMIF(PL_мес_кредит!$B:$B,A3,PL_мес_кредит!$K:$K) -> 945624.23 | H3: =SUMIF(PL_мес_кредит!$B:$B,A3,PL_мес_кредит!$L:$L) -> 46335587
A4: 3 | B4: =SUMIF(PL_мес_кредит!$B:$B,A4,PL_мес_кредит!$E:$E) -> 119070000 | C4: =SUMIF(PL_мес_кредит!$B:$B,A4,PL_мес_кредит!$G:$G) -> 52311420 | D4: =SUMIF(PL_мес_кредит!$B:$B,A4,PL_мес_кредит!$H:$H) -> 66758580 | E4: =SUMIF(PL_мес_кредит!$B:$B,A4,PL_мес_кредит!$I:$I) -> 7637571.7 | F4: =D4-E4 -> 59121008 | G4: =SUMIF(PL_мес_кредит!$B:$B,A4,PL_мес_кредит!$K:$K) -> 1182420.2 | H4: =SUMIF(PL_мес_кредит!$B:$B,A4,PL_мес_кредит!$L:$L) -> 57938588
A5: 4 | B5: =SUMIF(PL_мес_кредит!$B:$B,A5,PL_мес_кредит!$E:$E) -> 1.250235e+08 | C5: =SUMIF(PL_мес_кредит!$B:$B,A5,PL_мес_кредит!$G:$G) -> 54926991 | D5: =SUMIF(PL_мес_кредит!$B:$B,A5,PL_мес_кредит!$H:$H) -> 70096509 | E5: =SUMIF(PL_мес_кредит!$B:$B,A5,PL_мес_кредит!$I:$I) -> 4964520.3 | F5: =D5-E5 -> 65131989 | G5: =SUMIF(PL_мес_кредит!$B:$B,A5,PL_мес_кредит!$K:$K) -> 1302639.8 | H5: =SUMIF(PL_мес_кредит!$B:$B,A5,PL_мес_кредит!$L:$L) -> 63829349
A6: 5 | B6: =SUMIF(PL_мес_кредит!$B:$B,A6,PL_мес_кредит!$E:$E) -> 131274675 | C6: =SUMIF(PL_мес_кредит!$B:$B,A6,PL_мес_кредит!$G:$G) -> 57673341 | D6: =SUMIF(PL_мес_кредит!$B:$B,A6,PL_мес_кредит!$H:$H) -> 73601334 | E6: =SUMIF(PL_мес_кредит!$B:$B,A6,PL_мес_кредит!$I:$I) -> 1861763.8 | F6: =D6-E6 -> 71739571 | G6: =SUMIF(PL_мес_кредит!$B:$B,A6,PL_мес_кредит!$K:$K) -> 1434791.4 | H6: =SUMIF(PL_мес_кредит!$B:$B,A6,PL_мес_кредит!$L:$L) -> 70304779

Sheet Потоки_кредит
A1: Год | B1: Денежный поток (equity, факт)
A2: 0 | B2: =-Параметры!B20 -> -85000000
A3: 1 | B3: =PL_год_кредит!H2 -> 35786896
A4: 2 | B4: =PL_год_кредит!H3 -> 46335587
A5: 3 | B5: =PL_год_кредит!H4 -> 57938588
A6: 4 | B6: =PL_год_кредит!H5 -> 63829349
A7: 5 | B7: =PL_год_кредит!H6 -> 70304779

Sheet Показатели_кредит
A2: Собственные средства | B2: =Параметры!B20 -> 85000000
A3: Среднегодовая чистая прибыль (годы 3-5), факт, с кредитом | B3: =AVERAGE(PL_год_кредит!H4:H6) -> 64024239
A4: Доходность на equity, % в год (факт) | B4: =B3/B2 -> 0.75322634
A6: Ставка дисконтирования, % | B6: =Параметры!B8 -> 0.2
A7: NPV (equity, факт, с кредитом) | B7: =NPV(B6,Потоки_кредит!B3:B7)+Потоки_кредит!B2 -> 69564995
A8: IRR (equity, факт, с кредитом) | B8: =IRR(Потоки_кредит!B2:B7) -> 0.48950299

Sheet Потоки_конс
A1: Год | B1: Денежный поток (конс, без кредита)
A2: 0 | B2: =-Параметры!B2 -> -170000000
A3: 1 | B3: =PL_год!D2*(1-Параметры!B5) -> 36331200
A4: 2 | B4: =PL_год!D3*(1-Параметры!B5) -> 42916230
A5: 3 | B5: =PL_год!D4*(1-Параметры!B5) -> 50068935
A6: 4 | B6: =PL_год!D5*(1-Параметры!B5) -> 52572382
A7: 5 | B7: =PL_год!D6*(1-Параметры!B5) -> 55201001

Sheet Показатели_конс
A2: Инвестиции | B2: =Параметры!B2 -> 170000000
A3: Среднегодовая чистая прибыль (годы 3-5), конс | B3: =AVERAGE(Потоки_конс!B5:B7) -> 52614106
A4: Срок простой окупаемости, лет (конс) | B4: =B2/B3 -> 3.2310727
A6: Ставка дисконтирования, % | B6: =Параметры!B8 -> 0.2
A7: NPV (консервативный НП, без кредита) | B7: =NPV(B6,Потоки_конс!B3:B7)+Потоки_конс!B2 -> -33408747
A8: IRR (консервативный НП, без кредита) | B8: =IRR(Потоки_конс!B2:B7) -> 0.11339515

Sheet Сценарии
A1: Сценарий | B1: Тип сырья | C1: Базовая цена, руб/кг | D1: Загрузка год1 | E1: Загрузка год2 | F1: Загрузка год3+ | G1: Чистая прибыль год3, млн (факт, без кредита) | H1: Окупаемость, лет (факт) | I1: IRR (факт, без кредита), %
A2: Горбыль | B2: Горбыль | C2: 45 | D2: 0.8 | E2: 0.9 | F2: 1
A3: Береза | B3: Береза | C3: 45 | D3: 0.8 | E3: 0.9 | F3: 1
A4: Микс | B4: Микс (ручной расчет) | C4: 45 | D4: 0.8 | E4: 0.9 | F4: 1
A7: Комментарий:
A8: 1) Меняйте параметры на листе "Параметры" (тип сырья, цена, загрузка).
A9: 2) Смотрите "PL_год", "Показатели" и "Показатели_кредит".
A10: 3) Вносите итоговые цифры в строки сценариев для сравнения.
