Workbook
Name About_AI: #REF!
Name About_AI: #REF!
Name About_AI: #REF!
Name About_AI: #REF!
Name About_AI: #REF!
Name About_AI: #REF!
Name About_AI: #REF!
Name About_AI_Summ: #REF!
Name About_AI_Summ: #REF!
Name AI_Version: [1]Опции!$B$5
Name AI_Version: [1]Опции!$B$5
Name AI_Version: [1]Опции!$B$5
Name AI_Version: [1]Опции!$B$5
Name bc0yield: '[2]Базовая информация'!#REF!
Name bc0yield: '[2]Базовая информация'!#REF!
Name bc0yield: '[2]Базовая информация'!#REF!
Name bc10yield: '[2]Базовая информация'!#REF!
Name bc10yield: '[2]Базовая информация'!#REF!
Name bc10yield: '[2]Базовая информация'!#REF!
Name bc11yield: '[2]Базовая информация'!#REF!
Name bc11yield: '[2]Базовая информация'!#REF!
Name bc11yield: '[2]Базовая информация'!#REF!
Name bc12yield: '[2]Базовая информация'!#REF!
Name bc12yield: '[2]Базовая информация'!#REF!
Name bc12yield: '[2]Базовая информация'!#REF!
Name bc1yield: '[2]Базовая информация'!#REF!
Name bc1yield: '[2]Базовая информация'!#REF!
Name bc1yield: '[2]Базовая информация'!#REF!
Name bc2yield: '[2]Базовая информация'!#REF!
Name bc2yield: '[2]Базовая информация'!#REF!
Name bc2yield: '[2]Базовая информация'!#REF!
Name bc3yield: '[2]Базовая информация'!#REF!
Name bc3yield: '[2]Базовая информация'!#REF!
Name bc3yield: '[2]Базовая информация'!#REF!
Name bc4yield: '[2]Базовая информация'!#REF!
Name bc4yield: '[2]Базовая информация'!#REF!
Name bc4yield: '[2]Базовая информация'!#REF!
Name bc5yield: '[2]Базовая информация'!#REF!
Name bc5yield: '[2]Базовая информация'!#REF!
Name bc5yield: '[2]Базовая информация'!#REF!
Name bc6yield: '[2]Базовая информация'!#REF!
Name bc6yield: '[2]Базовая информация'!#REF!
Name bc6yield: '[2]Базовая информация'!#REF!
Name bc7yield: '[2]Базовая информация'!#REF!
Name bc7yield: '[2]Базовая информация'!#REF!
Name bc7yield: '[2]Базовая информация'!#REF!
Name bc8yield: '[2]Базовая информация'!#REF!
Name bc8yield: '[2]Базовая информация'!#REF!
Name bc8yield: '[2]Базовая информация'!#REF!
Name bc9yield: '[2]Базовая информация'!#REF!
Name bc9yield: '[2]Базовая информация'!#REF!
Name bc9yield: '[2]Базовая информация'!#REF!
Name bcplants: '[2]Базовая информация'!#REF!
Name bcplants: '[2]Базовая информация'!#REF!
Name bcplants: '[2]Базовая информация'!#REF!
Name bcy0: '[2]Базовая информация'!#REF!
Name bcy0: '[2]Базовая информация'!#REF!
Name bcy0: '[2]Базовая информация'!#REF!
Name CalcMethod: [1]Проект!$F$34
Name CalcMethod: [1]Проект!$F$34

Sheet Допущения
A1: Заказчик: ИП Глава крестьянско-фермерского хозяйства Жирова Вера Валериевна
A2: Ввод объекта | C2: Этапы развития проекта | E2: Ввод в действие (запуск) | F2: Продолжительность запуска, мес.
C3: начало | D3: окончание
A4: Ввод объекта | C4: 45901 | D4: =EDATE(C4,F4) -> 45992 | E4: =DATE(YEAR(D4),MONTH(D4)+0,1) -> 45992 | F4: 3
A6: Наименование | B6: Ед. изм. | C6: Значение | D6: Примечание
A7: Объем производства
A8: Свиные полутуши | B8: кг/мес. | C8: 240000
A9: Говядина четверти | B9: кг/мес. | C9: 120000
A10: Тушки куриные | B10: кг/мес. | C10: 120000
A11: Тушки индейки | B11: кг/мес. | C11: 120000
A12: Котлеты замороженные | B12: кг/мес. | C12: 105000
A13: Шашлык маринованный | B13: кг/мес. | C13: 150000
A14: Фрикадельки | B14: кг/мес. | C14: 105000
A15: Пельмени | B15: кг/мес. | C15: 100000
A16: - | B16: кг/мес. | C16: 0
A17: - | B17: кг/мес. | C17: 0
A19: Стоимость реализации, с НДС
A20: =A8 -> Свиные полутуши | B20: руб./кг | C20: 202
A21: =A9 -> Говядина четверти | B21: руб./кг | C21: 475
A22: =A10 -> Тушки куриные | B22: руб./кг | C22: 190
A23: =A11 -> Тушки индейки | B23: руб./кг | C23: 250
A24: =A12 -> Котлеты замороженные | B24: руб./кг | C24: 300
A25: =A13 -> Шашлык маринованный | B25: руб./кг | C25: 280
A26: =A14 -> Фрикадельки | B26: руб./кг | C26: 280
A27: =A15 -> Пельмени | B27: руб./кг | C27: 290
A28: =A16 -> - | B28: руб./кг | C28: 0
A29: =A17 -> - | B29: руб./кг | C29: 0
A31: Себестоимость, с НДС
A32: =A20 -> Свиные полутуши | B32: руб./ед. | C32: 160
A33: =A21 -> Говядина четверти | B33: руб./ед. | C33: 160
A34: =A22 -> Тушки куриные | B34: руб./ед. | C34: 110
A35: =A23 -> Тушки индейки | B35: руб./ед. | C35: 120
A36: =A24 -> Котлеты замороженные | B36: руб./ед. | C36: 190
A37: =A25 -> Шашлык маринованный | B37: руб./ед. | C37: 190
A38: =A26 -> Фрикадельки | B38: руб./ед. | C38: 170
A39: =A27 -> Пельмени | B39: руб./ед. | C39: 170
A40: =A28 -> - | B40: руб./ед. | C40: 0
A41: =A29 -> - | B41: руб./ед. | C41: 0
A43: Условно постоянные расходы, с НДС
A44: Производственные
...

Sheet Сезонность
A1: Порядковый № месяца в году | B1: 1 | C1: 2 | D1: 3 | E1: 4 | F1: 5 | G1: 6 | H1: 7 | I1: 8 | J1: 9 | K1: 10 | L1: 11 | M1: 12
A2: Загрузка, % от максимальной за год | B2: янв. | C2: фев. | D2: мар. | E2: апр. | F2: май | G2: июнь | H2: июль | I2: авг. | J2: сен. | K2: окт. | L2: нояб. | M2: дек.
A3: Сезонность продаж | B3: 1 | C3: 1 | D3: 1 | E3: 1 | F3: 1 | G3: 1 | H3: 1 | I3: 1 | J3: 1 | K3: 1 | L3: 1 | M3: 1
A5: Средний чек, % от максимальной за год | B5: янв. | C5: фев. | D5: мар. | E5: апр. | F5: май | G5: июнь | H5: июль | I5: авг. | J5: сен. | K5: окт. | L5: нояб. | M5: дек.
A6: Сезонность цен | B6: 1 | C6: 1 | D6: 1 | E6: 1 | F6: 1 | G6: 1 | H6: 1 | I6: 1 | J6: 1 | K6: 1 | L6: 1 | M6: 1

Sheet Цены
A1: Квартал (порядковый № в году) | L1: =IF(OR(MONTH(L3)=1,MONTH(L3)=2,MONTH(L3)=3),1,IF(OR(MONTH(L3)=4,MONTH(L3)=5,MONTH(L3)=6),2,IF(OR(MONTH(L3)=7,MONTH(L3)=8,MONTH(L3)=9),3,4))) -> 3 | M1: =IF(OR(MONTH(M3)=1,MONTH(M3)=2,MONTH(M3)=3),1,IF(OR(MONTH(M3)=4,MONTH(M3)=5,MONTH(M3)=6),2,IF(OR(MONTH(M3)=7,MONTH(M3)=8,MONTH(M3)=9),3,4))) -> 4 | N1: =IF(OR(MONTH(N3)=1,MONTH(N3)=2,MONTH(N3)=3),1,IF(OR(MONTH(N3)=4,MONTH(N3)=5,MONTH(N3)=6),2,IF(OR(MONTH(N3)=7,MONTH(N3)=8,MONTH(N3)=9),3,4))) -> 4 | O1: =IF(OR(MONTH(O3)=1,MONTH(O3)=2,MONTH(O3)=3),1,IF(OR(MONTH(O3)=4,MONTH(O3)=5,MONTH(O3)=6),2,IF(OR(MONTH(O3)=7,MONTH(O3)=8,MONTH(O3)=9),3,4))) -> 4 | P1: =IF(OR(MONTH(P3)=1,MONTH(P3)=2,MONTH(P3)=3),1,IF(OR(MONTH(P3)=4,MONTH(P3)=5,MONTH(P3)=6),2,IF(OR(MONTH(P3)=7,MONTH(P3)=8,MONTH(P3)=9),3,4))) -> 1 | Q1: =IF(OR(MONTH(Q3)=1,MONTH(Q3)=2,MONTH(Q3)=3),1,IF(OR(MONTH(Q3)=4,MONTH(Q3)=5,MONTH(Q3)=6),2,IF(OR(MONTH(Q3)=7,MONTH(Q3)=8,MONTH(Q3)=9),3,4))) -> 1 | R1: =IF(OR(MONTH(R3)=1,MONTH(R3)=2,MONTH(R3)=3),1,IF(OR(MONTH(R3)=4,MONTH(R3)=5,MONTH(R3)=6),2,IF(OR(MONTH(R3)=7,MONTH(R3)=8,MONTH(R3)=9),3,4))) -> 1 | S1: =IF(OR(MONTH(S3)=1,MONTH(S3)=2,MONTH(S3)=3),1,IF(OR(MONTH(S3)=4,MONTH(S3)=5,MONTH(S3)=6),2,IF(OR(MONTH(S3)=7,MONTH(S3)=8,MONTH(S3)=9),3,4))) -> 2 | ... BS1: =IF(OR(MONTH(BS3)=1,MONTH(BS3)=2,MONTH(BS3)=3),1,IF(OR(MONTH(BS3)=4,MONTH(BS3)=5,MONTH(BS3)=6),2,IF(OR(MONTH(BS3)=7,MONTH(BS3)=8,MONTH(BS3)=9),3,4))) -> 3
A2: Год | E2: =L2 -> 2025 | F2: =E2+1 -> 2026 | G2: =F2+1 -> 2027 | H2: =G2+1 -> 2028 | I2: =H2+1 -> 2029 | J2: =I2+1 -> 2030 | L2: =YEAR(L3) -> 2025 | M2: =YEAR(M3) -> 2025 | N2: =YEAR(N3) -> 2025 | O2: =YEAR(O3) -> 2025 | P2: =YEAR(P3) -> 2026 | Q2: =YEAR(Q3) -> 2026 | R2: =YEAR(R3) -> 2026 | S2: =YEAR(S3) -> 2026 | ... BS2: =YEAR(BS3) -> 2030
A3: Месяц | L3: =Допущения!C4 -> 45901 | M3: =DATE(YEAR(L3),MONTH(L3)+1,1) -> 45931 | N3: =DATE(YEAR(M3),MONTH(M3)+1,1) -> 45962 | O3: =DATE(YEAR(N3),MONTH(N3)+1,1) -> 45992 | P3: =DATE(YEAR(O3),MONTH(O3)+1,1) -> 46023 | Q3: =DATE(YEAR(P3),MONTH(P3)+1,1) -> 46054 | R3: =DATE(YEAR(Q3),MONTH(Q3)+1,1) -> 46082 | S3: =DATE(YEAR(R3),MONTH(R3)+1,1) -> 46113 | T3: =DATE(YEAR(S3),MONTH(S3)+1,1) -> 46143 | ... BT3: =DATE(YEAR(BS3),MONTH(BS3)+1,1) -> 47727
A4: К-во дней в месяце | L4: =M3-L3 -> 30 | M4: =N3-M3 -> 31 | N4: =O3-N3 -> 30 | O4: =P3-O3 -> 31 | P4: =Q3-P3 -> 31 | Q4: =R3-Q3 -> 28 | R4: =S3-R3 -> 31 | S4: =T3-S3 -> 30 | ... BS4: =BT3-BS3 -> 31
A5: Порядковый № периода | L5: 1 | M5: =L5+1 -> 2 | N5: =M5+1 -> 3 | O5: =N5+1 -> 4 | P5: =O5+1 -> 5 | Q5: =P5+1 -> 6 | R5: =Q5+1 -> 7 | S5: =R5+1 -> 8 | T5: =S5+1 -> 9 | ... BS5: =BR5+1 -> 60
A7: Стоимость реализации | B7: Ед. изм. | C7: без НДС
A8: =Допущения!A20 -> Свиные полутуши | B8: =Допущения!B20 -> руб./кг | C8: =Допущения!$C20/(1+Допущения!$C$68)*'Анализ чувствительности'!$B$1/100 -> 168.33333 | E8: =AVERAGEIF($L$2:$BS$2,E$2,$L8:$BS8) -> 168.33333 | F8: =AVERAGEIF($L$2:$BS$2,F$2,$L8:$BS8) -> 176.75 | G8: =AVERAGEIF($L$2:$BS$2,G$2,$L8:$BS8) -> 185.5875 | H8: =AVERAGEIF($L$2:$BS$2,H$2,$L8:$BS8) -> 194.86688 | I8: =AVERAGEIF($L$2:$BS$2,I$2,$L8:$BS8) -> 204.61022 | J8: =AVERAGEIF($L$2:$BS$2,J$2,$L8:$BS8) -> 214.84073 | L8: =$C8*L$21 -> 168.33333 | M8: =$C8*M$21 -> 168.33333 | N8: =$C8*N$21 -> 168.33333 | O8: =$C8*O$21 -> 168.33333 | P8: =$C8*P$21 -> 176.75 | Q8: =$C8*Q$21 -> 176.75 | R8: =$C8*R$21 -> 176.75 | S8: =$C8*S$21 -> 176.75 | ... BS8: =$C8*BS$21 -> 214.84073
A9: =Допущения!A21 -> Говядина четверти | B9: =Допущения!B21 -> руб./кг | C9: =Допущения!$C21/(1+Допущения!$C$68)*'Анализ чувствительности'!$B$1/100 -> 395.83333 | E9: =AVERAGEIF($L$2:$BS$2,E$2,$L9:$BS9) -> 395.83333 | F9: =AVERAGEIF($L$2:$BS$2,F$2,$L9:$BS9) -> 415.625 | G9: =AVERAGEIF($L$2:$BS$2,G$2,$L9:$BS9) -> 436.40625 | H9: =AVERAGEIF($L$2:$BS$2,H$2,$L9:$BS9) -> 458.22656 | I9: =AVERAGEIF($L$2:$BS$2,I$2,$L9:$BS9) -> 481.13789 | J9: =AVERAGEIF($L$2:$BS$2,J$2,$L9:$BS9) -> 505.19479 | L9: =$C9*L$21 -> 395.83333 | M9: =$C9*M$21 -> 395.83333 | N9: =$C9*N$21 -> 395.83333 | O9: =$C9*O$21 -> 395.83333 | P9: =$C9*P$21 -> 415.625 | Q9: =$C9*Q$21 -> 415.625 | R9: =$C9*R$21 -> 415.625 | S9: =$C9*S$21 -> 415.625 | ... BS9: =$C9*BS$21 -> 505.19479
A10: =Допущения!A22 -> Тушки куриные | B10: =Допущения!B22 -> руб./кг | C10: =Допущения!$C22/(1+Допущения!$C$68)*'Анализ чувствительности'!$B$1/100 -> 158.33333 | E10: =AVERAGEIF($L$2:$BS$2,E$2,$L10:$BS10) -> 158.33333 | F10: =AVERAGEIF($L$2:$BS$2,F$2,$L10:$BS10) -> 166.25 | G10: =AVERAGEIF($L$2:$BS$2,G$2,$L10:$BS10) -> 174.5625 | H10: =AVERAGEIF($L$2:$BS$2,H$2,$L10:$BS10) -> 183.29063 | I10: =AVERAGEIF($L$2:$BS$2,I$2,$L10:$BS10) -> 192.45516 | J10: =AVERAGEIF($L$2:$BS$2,J$2,$L10:$BS10) -> 202.07791 | L10: =$C10*L$21 -> 158.33333 | M10: =$C10*M$21 -> 158.33333 | N10: =$C10*N$21 -> 158.33333 | O10: =$C10*O$21 -> 158.33333 | P10: =$C10*P$21 -> 166.25 | Q10: =$C10*Q$21 -> 166.25 | R10: =$C10*R$21 -> 166.25 | S10: =$C10*S$21 -> 166.25 | ... BS10: =$C10*BS$21 -> 202.07791
A11: =Допущения!A23 -> Тушки индейки | B11: =Допущения!B23 -> руб./кг | C11: =Допущения!$C23/(1+Допущения!$C$68)*'Анализ чувствительности'!$B$1/100 -> 208.33333 | E11: =AVERAGEIF($L$2:$BS$2,E$2,$L11:$BS11) -> 208.33333 | F11: =AVERAGEIF($L$2:$BS$2,F$2,$L11:$BS11) -> 218.75 | G11: =AVERAGEIF($L$2:$BS$2,G$2,$L11:$BS11) -> 229.6875 | H11: =AVERAGEIF($L$2:$BS$2,H$2,$L11:$BS11) -> 241.17188 | I11: =AVERAGEIF($L$2:$BS$2,I$2,$L11:$BS11) -> 253.23047 | J11: =AVERAGEIF($L$2:$BS$2,J$2,$L11:$BS11) -> 265.89199 | L11: =$C11*L$21 -> 208.33333 | M11: =$C11*M$21 -> 208.33333 | N11: =$C11*N$21 -> 208.33333 | O11: =$C11*O$21 -> 208.33333 | P11: =$C11*P$21 -> 218.75 | Q11: =$C11*Q$21 -> 218.75 | R11: =$C11*R$21 -> 218.75 | S11: =$C11*S$21 -> 218.75 | ... BS11: =$C11*BS$21 -> 265.89199
A12: =Допущения!A24 -> Котлеты замороженные | B12: =Допущения!B24 -> руб./кг | C12: =Допущения!$C24/(1+Допущения!$C$68)*'Анализ чувствительности'!$B$1/100 -> 250 | E12: =AVERAGEIF($L$2:$BS$2,E$2,$L12:$BS12) -> 250 | F12: =AVERAGEIF($L$2:$BS$2,F$2,$L12:$BS12) -> 262.5 | G12: =AVERAGEIF($L$2:$BS$2,G$2,$L12:$BS12) -> 275.625 | H12: =AVERAGEIF($L$2:$BS$2,H$2,$L12:$BS12) -> 289.40625 | I12: =AVERAGEIF($L$2:$BS$2,I$2,$L12:$BS12) -> 303.87656 | J12: =AVERAGEIF($L$2:$BS$2,J$2,$L12:$BS12) -> 319.07039 | L12: =$C12*L$21 -> 250 | M12: =$C12*M$21 -> 250 | N12: =$C12*N$21 -> 250 | O12: =$C12*O$21 -> 250 | P12: =$C12*P$21 -> 262.5 | Q12: =$C12*Q$21 -> 262.5 | R12: =$C12*R$21 -> 262.5 | S12: =$C12*S$21 -> 262.5 | ... BS12: =$C12*BS$21 -> 319.07039
A13: =Допущения!A25 -> Шашлык маринованный | B13: =Допущения!B25 -> руб./кг | C13: =Допущения!$C25/(1+Допущения!$C$68)*'Анализ чувствительности'!$B$1/100 -> 233.33333 | E13: =AVERAGEIF($L$2:$BS$2,E$2,$L13:$BS13) -> 233.33333 | F13: =AVERAGEIF($L$2:$BS$2,F$2,$L13:$BS13) -> 245 | G13: =AVERAGEIF($L$2:$BS$2,G$2,$L13:$BS13) -> 257.25 | H13: =AVERAGEIF($L$2:$BS$2,H$2,$L13:$BS13) -> 270.1125 | I13: =AVERAGEIF($L$2:$BS$2,I$2,$L13:$BS13) -> 283.61813 | J13: =AVERAGEIF($L$2:$BS$2,J$2,$L13:$BS13) -> 297.79903 | L13: =$C13*L$21 -> 233.33333 | M13: =$C13*M$21 -> 233.33333 | N13: =$C13*N$21 -> 233.33333 | O13: =$C13*O$21 -> 233.33333 | P13: =$C13*P$21 -> 245 | Q13: =$C13*Q$21 -> 245 | R13: =$C13*R$21 -> 245 | S13: =$C13*S$21 -> 245 | ... BS13: =$C13*BS$21 -> 297.79903
A14: =Допущения!A26 -> Фрикадельки | B14: =Допущения!B26 -> руб./кг | C14: =Допущения!$C26/(1+Допущения!$C$68)*'Анализ чувствительности'!$B$1/100 -> 233.33333 | E14: =AVERAGEIF($L$2:$BS$2,E$2,$L14:$BS14) -> 233.33333 | F14: =AVERAGEIF($L$2:$BS$2,F$2,$L14:$BS14) -> 245 | G14: =AVERAGEIF($L$2:$BS$2,G$2,$L14:$BS14) -> 257.25 | H14: =AVERAGEIF($L$2:$BS$2,H$2,$L14:$BS14) -> 270.1125 | I14: =AVERAGEIF($L$2:$BS$2,I$2,$L14:$BS14) -> 283.61813 | J14: =AVERAGEIF($L$2:$BS$2,J$2,$L14:$BS14) -> 297.79903 | L14: =$C14*L$21 -> 233.33333 | M14: =$C14*M$21 -> 233.33333 | N14: =$C14*N$21 -> 233.33333 | O14: =$C14*O$21 -> 233.33333 | P14: =$C14*P$21 -> 245 | Q14: =$C14*Q$21 -> 245 | R14: =$C14*R$21 -> 245 | S14: =$C14*S$21 -> 245 | ... BS14: =$C14*BS$21 -> 297.79903
A15: =Допущения!A27 -> Пельмени | B15: =Допущения!B27 -> руб./кг | C15: =Допущения!$C27/(1+Допущения!$C$68)*'Анализ чувствительности'!$B$1/100 -> 241.66667 | E15: =AVERAGEIF($L$2:$BS$2,E$2,$L15:$BS15) -> 241.66667 | F15: =AVERAGEIF($L$2:$BS$2,F$2,$L15:$BS15) -> 253.75 | G15: =AVERAGEIF($L$2:$BS$2,G$2,$L15:$BS15) -> 266.4375 | H15: =AVERAGEIF($L$2:$BS$2,H$2,$L15:$BS15) -> 279.75938 | I15: =AVERAGEIF($L$2:$BS$2,I$2,$L15:$BS15) -> 293.74734 | J15: =AVERAGEIF($L$2:$BS$2,J$2,$L15:$BS15) -> 308.43471 | L15: =$C15*L$21 -> 241.66667 | M15: =$C15*M$21 -> 241.66667 | N15: =$C15*N$21 -> 241.66667 | O15: =$C15*O$21 -> 241.66667 | P15: =$C15*P$21 -> 253.75 | Q15: =$C15*Q$21 -> 253.75 | R15: =$C15*R$21 -> 253.75 | S15: =$C15*S$21 -> 253.75 | ... BS15: =$C15*BS$21 -> 308.43471
A16: =Допущения!A28 -> - | B16: =Допущения!B28 -> руб./кг | C16: =Допущения!$C28/(1+Допущения!$C$68)*'Анализ чувствительности'!$B$1/100 -> 0 | E16: =AVERAGEIF($L$2:$BS$2,E$2,$L16:$BS16) -> 0 | F16: =AVERAGEIF($L$2:$BS$2,F$2,$L16:$BS16) -> 0 | G16: =AVERAGEIF($L$2:$BS$2,G$2,$L16:$BS16) -> 0 | H16: =AVERAGEIF($L$2:$BS$2,H$2,$L16:$BS16) -> 0 | I16: =AVERAGEIF($L$2:$BS$2,I$2,$L16:$BS16) -> 0 | J16: =AVERAGEIF($L$2:$BS$2,J$2,$L16:$BS16) -> 0 | L16: =$C16*L$21 -> 0 | M16: =$C16*M$21 -> 0 | N16: =$C16*N$21 -> 0 | O16: =$C16*O$21 -> 0 | P16: =$C16*P$21 -> 0 | Q16: =$C16*Q$21 -> 0 | R16: =$C16*R$21 -> 0 | S16: =$C16*S$21 -> 0 | ... BS16: =$C16*BS$21 -> 0
A17: =Допущения!A29 -> - | B17: =Допущения!B29 -> руб./кг | C17: =Допущения!$C29/(1+Допущения!$C$68)*'Анализ чувствительности'!$B$1/100 -> 0 | E17: =AVERAGEIF($L$2:$BS$2,E$2,$L17:$BS17) -> 0 | F17: =AVERAGEIF($L$2:$BS$2,F$2,$L17:$BS17) -> 0 | G17: =AVERAGEIF($L$2:$BS$2,G$2,$L17:$BS17) -> 0 | H17: =AVERAGEIF($L$2:$BS$2,H$2,$L17:$BS17) -> 0 | I17: =AVERAGEIF($L$2:$BS$2,I$2,$L17:$BS17) -> 0 | J17: =AVERAGEIF($L$2:$BS$2,J$2,$L17:$BS17) -> 0 | L17: =$C17*L$21 -> 0 | M17: =$C17*M$21 -> 0 | N17: =$C17*N$21 -> 0 | O17: =$C17*O$21 -> 0 | P17: =$C17*P$21 -> 0 | Q17: =$C17*Q$21 -> 0 | R17: =$C17*R$21 -> 0 | S17: =$C17*S$21 -> 0 | ... BS17: =$C17*BS$21 -> 0
A19: Макроиндексы по стоимости реализации | E19: =L2 -> 2025 | F19: =E19+1 -> 2026 | G19: =F19+1 -> 2027 | H19: =G19+1 -> 2028 | I19: =H19+1 -> 2029 | J19: =I19+1 -> 2030
A20: Среднегодовая инфляция | E20: 0.05 | F20: 0.05 | G20: 0.05 | H20: 0.05 | I20: 0.05 | J20: 0.05 | L20: =SUMIF($E$19:$J$19,L$2,$E20:$J20) -> 0.05 | M20: =SUMIF($E$19:$J$19,M$2,$E20:$J20) -> 0.05 | N20: =SUMIF($E$19:$J$19,N$2,$E20:$J20) -> 0.05 | O20: =SUMIF($E$19:$J$19,O$2,$E20:$J20) -> 0.05 | P20: =SUMIF($E$19:$J$19,P$2,$E20:$J20) -> 0.05 | Q20: =SUMIF($E$19:$J$19,Q$2,$E20:$J20) -> 0.05 | R20: =SUMIF($E$19:$J$19,R$2,$E20:$J20) -> 0.05 | S20: =SUMIF($E$19:$J$19,S$2,$E20:$J20) -> 0.05 | ... BS20: =SUMIF($E$19:$J$19,BS$2,$E20:$J20) -> 0.05
A21: Индекс цен по отношению к началу проекта | E21: 1 | F21: =E21*(1+E20) -> 1.05 | G21: =F21*(1+F20) -> 1.1025 | H21: =G21*(1+G20) -> 1.157625 | I21: =H21*(1+H20) -> 1.2155063 | J21: =I21*(1+I20) -> 1.2762816 | L21: =SUMIF($E$19:$J$19,L$2,$E21:$J21) -> 1 | M21: =SUMIF($E$19:$J$19,M$2,$E21:$J21) -> 1 | N21: =SUMIF($E$19:$J$19,N$2,$E21:$J21) -> 1 | O21: =SUMIF($E$19:$J$19,O$2,$E21:$J21) -> 1 | P21: =SUMIF($E$19:$J$19,P$2,$E21:$J21) -> 1.05 | Q21: =SUMIF($E$19:$J$19,Q$2,$E21:$J21) -> 1.05 | R21: =SUMIF($E$19:$J$19,R$2,$E21:$J21) -> 1.05 | S21: =SUMIF($E$19:$J$19,S$2,$E21:$J21) -> 1.05 | ... BS21: =SUMIF($E$19:$J$19,BS$2,$E21:$J21) -> 1.2762816
A24: Расходы | B24: Ед. изм. | C24: без НДС
A25: =Допущения!A32 -> Свиные полутуши | B25: =Допущения!B32 -> руб./ед. | C25: =Допущения!$C32/(1+Допущения!$C$68) -> 133.33333 | E25: =AVERAGEIF($L$2:$BS$2,E$2,$L25:$BS25) -> 133.33333 | F25: =AVERAGEIF($L$2:$BS$2,F$2,$L25:$BS25) -> 140 | G25: =AVERAGEIF($L$2:$BS$2,G$2,$L25:$BS25) -> 147 | H25: =AVERAGEIF($L$2:$BS$2,H$2,$L25:$BS25) -> 154.35 | I25: =AVERAGEIF($L$2:$BS$2,I$2,$L25:$BS25) -> 162.0675 | J25: =AVERAGEIF($L$2:$BS$2,J$2,$L25:$BS25) -> 170.17088 | L25: =$C25*L$59 -> 133.33333 | M25: =$C25*M$59 -> 133.33333 | N25: =$C25*N$59 -> 133.33333 | O25: =$C25*O$59 -> 133.33333 | P25: =$C25*P$59 -> 140 | Q25: =$C25*Q$59 -> 140 | R25: =$C25*R$59 -> 140 | S25: =$C25*S$59 -> 140 | ... BS25: =$C25*BS$59 -> 170.17088
A26: =Допущения!A33 -> Говядина четверти | B26: =Допущения!B33 -> руб./ед. | C26: =Допущения!$C33/(1+Допущения!$C$68) -> 133.33333 | E26: =AVERAGEIF($L$2:$BS$2,E$2,$L26:$BS26) -> 133.33333 | F26: =AVERAGEIF($L$2:$BS$2,F$2,$L26:$BS26) -> 140 | G26: =AVERAGEIF($L$2:$BS$2,G$2,$L26:$BS26) -> 147 | H26: =AVERAGEIF($L$2:$BS$2,H$2,$L26:$BS26) -> 154.35 | I26: =AVERAGEIF($L$2:$BS$2,I$2,$L26:$BS26) -> 162.0675 | J26: =AVERAGEIF($L$2:$BS$2,J$2,$L26:$BS26) -> 170.17088 | L26: =$C26*L$59 -> 133.33333 | M26: =$C26*M$59 -> 133.33333 | N26: =$C26*N$59 -> 133.33333 | O26: =$C26*O$59 -> 133.33333 | P26: =$C26*P$59 -> 140 | Q26: =$C26*Q$59 -> 140 | R26: =$C26*R$59 -> 140 | S26: =$C26*S$59 -> 140 | ... BS26: =$C26*BS$59 -> 170.17088
A27: =Допущения!A34 -> Тушки куриные | B27: =Допущения!B34 -> руб./ед. | C27: =Допущения!$C34/(1+Допущения!$C$68) -> 91.666667 | E27: =AVERAGEIF($L$2:$BS$2,E$2,$L27:$BS27) -> 91.666667 | F27: =AVERAGEIF($L$2:$BS$2,F$2,$L27:$BS27) -> 96.25 | G27: =AVERAGEIF($L$2:$BS$2,G$2,$L27:$BS27) -> 101.0625 | H27: =AVERAGEIF($L$2:$BS$2,H$2,$L27:$BS27) -> 106.11563 | I27: =AVERAGEIF($L$2:$BS$2,I$2,$L27:$BS27) -> 111.42141 | J27: =AVERAGEIF($L$2:$BS$2,J$2,$L27:$BS27) -> 116.99248 | L27: =$C27*L$59 -> 91.666667 | M27: =$C27*M$59 -> 91.666667 | N27: =$C27*N$59 -> 91.666667 | O27: =$C27*O$59 -> 91.666667 | P27: =$C27*P$59 -> 96.25 | Q27: =$C27*Q$59 -> 96.25 | R27: =$C27*R$59 -> 96.25 | S27: =$C27*S$59 -> 96.25 | ... BS27: =$C27*BS$59 -> 116.99248
A28: =Допущения!A35 -> Тушки индейки | B28: =Допущения!B35 -> руб./ед. | C28: =Допущения!$C35/(1+Допущения!$C$68) -> 100 | E28: =AVERAGEIF($L$2:$BS$2,E$2,$L28:$BS28) -> 100 | F28: =AVERAGEIF($L$2:$BS$2,F$2,$L28:$BS28) -> 105 | G28: =AVERAGEIF($L$2:$BS$2,G$2,$L28:$BS28) -> 110.25 | H28: =AVERAGEIF($L$2:$BS$2,H$2,$L28:$BS28) -> 115.7625 | I28: =AVERAGEIF($L$2:$BS$2,I$2,$L28:$BS28) -> 121.55063 | J28: =AVERAGEIF($L$2:$BS$2,J$2,$L28:$BS28) -> 127.62816 | L28: =$C28*L$59 -> 100 | M28: =$C28*M$59 -> 100 | N28: =$C28*N$59 -> 100 | O28: =$C28*O$59 -> 100 | P28: =$C28*P$59 -> 105 | Q28: =$C28*Q$59 -> 105 | R28: =$C28*R$59 -> 105 | S28: =$C28*S$59 -> 105 | ... BS28: =$C28*BS$59 -> 127.62816
A29: =Допущения!A36 -> Котлеты замороженные | B29: =Допущения!B36 -> руб./ед. | C29: =Допущения!$C36/(1+Допущения!$C$68) -> 158.33333 | E29: =AVERAGEIF($L$2:$BS$2,E$2,$L29:$BS29) -> 158.33333 | F29: =AVERAGEIF($L$2:$BS$2,F$2,$L29:$BS29) -> 166.25 | G29: =AVERAGEIF($L$2:$BS$2,G$2,$L29:$BS29) -> 174.5625 | H29: =AVERAGEIF($L$2:$BS$2,H$2,$L29:$BS29) -> 183.29063 | I29: =AVERAGEIF($L$2:$BS$2,I$2,$L29:$BS29) -> 192.45516 | J29: =AVERAGEIF($L$2:$BS$2,J$2,$L29:$BS29) -> 202.07791 | L29: =$C29*L$59 -> 158.33333 | M29: =$C29*M$59 -> 158.33333 | N29: =$C29*N$59 -> 158.33333 | O29: =$C29*O$59 -> 158.33333 | P29: =$C29*P$59 -> 166.25 | Q29: =$C29*Q$59 -> 166.25 | R29: =$C29*R$59 -> 166.25 | S29: =$C29*S$59 -> 166.25 | ... BS29: =$C29*BS$59 -> 202.07791
A30: =Допущения!A37 -> Шашлык маринованный | B30: =Допущения!B37 -> руб./ед. | C30: =Допущения!$C37/(1+Допущения!$C$68) -> 158.33333 | E30: =AVERAGEIF($L$2:$BS$2,E$2,$L30:$BS30) -> 158.33333 | F30: =AVERAGEIF($L$2:$BS$2,F$2,$L30:$BS30) -> 166.25 | G30: =AVERAGEIF($L$2:$BS$2,G$2,$L30:$BS30) -> 174.5625 | H30: =AVERAGEIF($L$2:$BS$2,H$2,$L30:$BS30) -> 183.29063 | I30: =AVERAGEIF($L$2:$BS$2,I$2,$L30:$BS30) -> 192.45516 | J30: =AVERAGEIF($L$2:$BS$2,J$2,$L30:$BS30) -> 202.07791 | L30: =$C30*L$59 -> 158.33333 | M30: =$C30*M$59 -> 158.33333 | N30: =$C30*N$59 -> 158.33333 | O30: =$C30*O$59 -> 158.33333 | P30: =$C30*P$59 -> 166.25 | Q30: =$C30*Q$59 -> 166.25 | R30: =$C30*R$59 -> 166.25 | S30: =$C30*S$59 -> 166.25 | ... BS30: =$C30*BS$59 -> 202.07791
A31: =Допущения!A38 -> Фрикадельки | B31: =Допущения!B38 -> руб./ед. | C31: =Допущения!$C38/(1+Допущения!$C$68) -> 141.66667 | E31: =AVERAGEIF($L$2:$BS$2,E$2,$L31:$BS31) -> 141.66667 | F31: =AVERAGEIF($L$2:$BS$2,F$2,$L31:$BS31) -> 148.75 | G31: =AVERAGEIF($L$2:$BS$2,G$2,$L31:$BS31) -> 156.1875 | H31: =AVERAGEIF($L$2:$BS$2,H$2,$L31:$BS31) -> 163.99688 | I31: =AVERAGEIF($L$2:$BS$2,I$2,$L31:$BS31) -> 172.19672 | J31: =AVERAGEIF($L$2:$BS$2,J$2,$L31:$BS31) -> 180.80655 | L31: =$C31*L$59 -> 141.66667 | M31: =$C31*M$59 -> 141.66667 | N31: =$C31*N$59 -> 141.66667 | O31: =$C31*O$59 -> 141.66667 | P31: =$C31*P$59 -> 148.75 | Q31: =$C31*Q$59 -> 148.75 | R31: =$C31*R$59 -> 148.75 | S31: =$C31*S$59 -> 148.75 | ... BS31: =$C31*BS$59 -> 180.80655
A32: =Допущения!A39 -> Пельмени | B32: =Допущения!B39 -> руб./ед. | C32: =Допущения!$C39/(1+Допущения!$C$68) -> 141.66667 | E32: =AVERAGEIF($L$2:$BS$2,E$2,$L32:$BS32) -> 141.66667 | F32: =AVERAGEIF($L$2:$BS$2,F$2,$L32:$BS32) -> 148.75 | G32: =AVERAGEIF($L$2:$BS$2,G$2,$L32:$BS32) -> 156.1875 | H32: =AVERAGEIF($L$2:$BS$2,H$2,$L32:$BS32) -> 163.99688 | I32: =AVERAGEIF($L$2:$BS$2,I$2,$L32:$BS32) -> 172.19672 | J32: =AVERAGEIF($L$2:$BS$2,J$2,$L32:$BS32) -> 180.80655 | L32: =$C32*L$59 -> 141.66667 | M32: =$C32*M$59 -> 141.66667 | N32: =$C32*N$59 -> 141.66667 | O32: =$C32*O$59 -> 141.66667 | P32: =$C32*P$59 -> 148.75 | Q32: =$C32*Q$59 -> 148.75 | R32: =$C32*R$59 -> 148.75 | S32: =$C32*S$59 -> 148.75 | ... BS32: =$C32*BS$59 -> 180.80655
A33: =Допущения!A40 -> - | B33: =Допущения!B40 -> руб./ед. | C33: =Допущения!$C40/(1+Допущения!$C$68) -> 0 | E33: =AVERAGEIF($L$2:$BS$2,E$2,$L33:$BS33) -> 0 | F33: =AVERAGEIF($L$2:$BS$2,F$2,$L33:$BS33) -> 0 | G33: =AVERAGEIF($L$2:$BS$2,G$2,$L33:$BS33) -> 0 | H33: =AVERAGEIF($L$2:$BS$2,H$2,$L33:$BS33) -> 0 | I33: =AVERAGEIF($L$2:$BS$2,I$2,$L33:$BS33) -> 0 | J33: =AVERAGEIF($L$2:$BS$2,J$2,$L33:$BS33) -> 0 | L33: =$C33*L$59 -> 0 | M33: =$C33*M$59 -> 0 | N33: =$C33*N$59 -> 0 | O33: =$C33*O$59 -> 0 | P33: =$C33*P$59 -> 0 | Q33: =$C33*Q$59 -> 0 | R33: =$C33*R$59 -> 0 | S33: =$C33*S$59 -> 0 | ... BS33: =$C33*BS$59 -> 0
A34: =Допущения!A41 -> - | B34: =Допущения!B41 -> руб./ед. | C34: =Допущения!$C41/(1+Допущения!$C$68) -> 0 | E34: =AVERAGEIF($L$2:$BS$2,E$2,$L34:$BS34) -> 0 | F34: =AVERAGEIF($L$2:$BS$2,F$2,$L34:$BS34) -> 0 | G34: =AVERAGEIF($L$2:$BS$2,G$2,$L34:$BS34) -> 0 | H34: =AVERAGEIF($L$2:$BS$2,H$2,$L34:$BS34) -> 0 | I34: =AVERAGEIF($L$2:$BS$2,I$2,$L34:$BS34) -> 0 | J34: =AVERAGEIF($L$2:$BS$2,J$2,$L34:$BS34) -> 0 | L34: =$C34*L$59 -> 0 | M34: =$C34*M$59 -> 0 | N34: =$C34*N$59 -> 0 | O34: =$C34*O$59 -> 0 | P34: =$C34*P$59 -> 0 | Q34: =$C34*Q$59 -> 0 | R34: =$C34*R$59 -> 0 | S34: =$C34*S$59 -> 0 | ... BS34: =$C34*BS$59 -> 0
A35: =Допущения!A44 -> Производственные
A36: =Допущения!A45 -> Э/э | B36: =Допущения!B45 -> руб./мес. | C36: =Допущения!$C45/(1+Допущения!$C$68) -> 924000 | E36: =AVERAGEIF($L$2:$BS$2,E$2,$L36:$BS36) -> 924000 | F36: =AVERAGEIF($L$2:$BS$2,F$2,$L36:$BS36) -> 970200 | G36: =AVERAGEIF($L$2:$BS$2,G$2,$L36:$BS36) -> 1018710 | H36: =AVERAGEIF($L$2:$BS$2,H$2,$L36:$BS36) -> 1069645.5 | I36: =AVERAGEIF($L$2:$BS$2,I$2,$L36:$BS36) -> 1123127.8 | J36: =AVERAGEIF($L$2:$BS$2,J$2,$L36:$BS36) -> 1179284.2 | L36: =$C36*L$59 -> 924000 | M36: =$C36*M$59 -> 924000 | N36: =$C36*N$59 -> 924000 | O36: =$C36*O$59 -> 924000 | P36: =$C36*P$59 -> 970200 | Q36: =$C36*Q$59 -> 970200 | R36: =$C36*R$59 -> 970200 | S36: =$C36*S$59 -> 970200 | ... BS36: =$C36*BS$59 -> 1179284.2
A37: =Допущения!A46 -> Коммунальные платежи | B37: =Допущения!B46 -> руб./мес. | C37: =Допущения!$C46/(1+Допущения!$C$68) -> 50000 | E37: =AVERAGEIF($L$2:$BS$2,E$2,$L37:$BS37) -> 50000 | F37: =AVERAGEIF($L$2:$BS$2,F$2,$L37:$BS37) -> 52500 | G37: =AVERAGEIF($L$2:$BS$2,G$2,$L37:$BS37) -> 55125 | H37: =AVERAGEIF($L$2:$BS$2,H$2,$L37:$BS37) -> 57881.25 | I37: =AVERAGEIF($L$2:$BS$2,I$2,$L37:$BS37) -> 60775.313 | J37: =AVERAGEIF($L$2:$BS$2,J$2,$L37:$BS37) -> 63814.078 | L37: =$C37*L$59 -> 50000 | M37: =$C37*M$59 -> 50000 | N37: =$C37*N$59 -> 50000 | O37: =$C37*O$59 -> 50000 | P37: =$C37*P$59 -> 52500 | Q37: =$C37*Q$59 -> 52500 | R37: =$C37*R$59 -> 52500 | S37: =$C37*S$59 -> 52500 | ... BS37: =$C37*BS$59 -> 63814.078
A38: =Допущения!A47 -> ГСМ | B38: =Допущения!B47 -> руб./мес. | C38: =Допущения!$C47/(1+Допущения!$C$68) -> 41666.667 | E38: =AVERAGEIF($L$2:$BS$2,E$2,$L38:$BS38) -> 41666.667 | F38: =AVERAGEIF($L$2:$BS$2,F$2,$L38:$BS38) -> 43750 | G38: =AVERAGEIF($L$2:$BS$2,G$2,$L38:$BS38) -> 45937.5 | H38: =AVERAGEIF($L$2:$BS$2,H$2,$L38:$BS38) -> 48234.375 | I38: =AVERAGEIF($L$2:$BS$2,I$2,$L38:$BS38) -> 50646.094 | J38: =AVERAGEIF($L$2:$BS$2,J$2,$L38:$BS38) -> 53178.398 | L38: =$C38*L$59 -> 41666.667 | M38: =$C38*M$59 -> 41666.667 | N38: =$C38*N$59 -> 41666.667 | O38: =$C38*O$59 -> 41666.667 | P38: =$C38*P$59 -> 43750 | Q38: =$C38*Q$59 -> 43750 | R38: =$C38*R$59 -> 43750 | S38: =$C38*S$59 -> 43750 | ... BS38: =$C38*BS$59 -> 53178.398
A39: =Допущения!A48 -> - | B39: =Допущения!B48 -> руб./мес. | C39: =Допущения!$C48/(1+Допущения!$C$68) -> 0 | E39: =AVERAGEIF($L$2:$BS$2,E$2,$L39:$BS39) -> 0 | F39: =AVERAGEIF($L$2:$BS$2,F$2,$L39:$BS39) -> 0 | G39: =AVERAGEIF($L$2:$BS$2,G$2,$L39:$BS39) -> 0 | H39: =AVERAGEIF($L$2:$BS$2,H$2,$L39:$BS39) -> 0 | I39: =AVERAGEIF($L$2:$BS$2,I$2,$L39:$BS39) -> 0 | J39: =AVERAGEIF($L$2:$BS$2,J$2,$L39:$BS39) -> 0 | L39: =$C39*L$59 -> 0 | M39: =$C39*M$59 -> 0 | N39: =$C39*N$59 -> 0 | O39: =$C39*O$59 -> 0 | P39: =$C39*P$59 -> 0 | Q39: =$C39*Q$59 -> 0 | R39: =$C39*R$59 -> 0 | S39: =$C39*S$59 -> 0 | ... BS39: =$C39*BS$59 -> 0
A40: =Допущения!A49 -> - | B40: =Допущения!B49 -> руб./мес. | C40: =Допущения!$C49/(1+Допущения!$C$68) -> 0 | E40: =AVERAGEIF($L$2:$BS$2,E$2,$L40:$BS40) -> 0 | F40: =AVERAGEIF($L$2:$BS$2,F$2,$L40:$BS40) -> 0 | G40: =AVERAGEIF($L$2:$BS$2,G$2,$L40:$BS40) -> 0 | H40: =AVERAGEIF($L$2:$BS$2,H$2,$L40:$BS40) -> 0 | I40: =AVERAGEIF($L$2:$BS$2,I$2,$L40:$BS40) -> 0 | J40: =AVERAGEIF($L$2:$BS$2,J$2,$L40:$BS40) -> 0 | L40: =$C40*L$59 -> 0 | M40: =$C40*M$59 -> 0 | N40: =$C40*N$59 -> 0 | O40: =$C40*O$59 -> 0 | P40: =$C40*P$59 -> 0 | Q40: =$C40*Q$59 -> 0 | R40: =$C40*R$59 -> 0 | S40: =$C40*S$59 -> 0 | ... BS40: =$C40*BS$59 -> 0
A41: =Допущения!A50 -> - | B41: =Допущения!B50 -> руб./мес. | C41: =Допущения!$C50/(1+Допущения!$C$68) -> 0 | E41: =AVERAGEIF($L$2:$BS$2,E$2,$L41:$BS41) -> 0 | F41: =AVERAGEIF($L$2:$BS$2,F$2,$L41:$BS41) -> 0 | G41: =AVERAGEIF($L$2:$BS$2,G$2,$L41:$BS41) -> 0 | H41: =AVERAGEIF($L$2:$BS$2,H$2,$L41:$BS41) -> 0 | I41: =AVERAGEIF($L$2:$BS$2,I$2,$L41:$BS41) -> 0 | J41: =AVERAGEIF($L$2:$BS$2,J$2,$L41:$BS41) -> 0 | L41: =$C41*L$59 -> 0 | M41: =$C41*M$59 -> 0 | N41: =$C41*N$59 -> 0 | O41: =$C41*O$59 -> 0 | P41: =$C41*P$59 -> 0 | Q41: =$C41*Q$59 -> 0 | R41: =$C41*R$59 -> 0 | S41: =$C41*S$59 -> 0 | ... BS41: =$C41*BS$59 -> 0
A42: =Допущения!A51 -> - | B42: =Допущения!B51 -> руб./мес. | C42: =Допущения!$C51/(1+Допущения!$C$68) -> 0 | E42: =AVERAGEIF($L$2:$BS$2,E$2,$L42:$BS42) -> 0 | F42: =AVERAGEIF($L$2:$BS$2,F$2,$L42:$BS42) -> 0 | G42: =AVERAGEIF($L$2:$BS$2,G$2,$L42:$BS42) -> 0 | H42: =AVERAGEIF($L$2:$BS$2,H$2,$L42:$BS42) -> 0 | I42: =AVERAGEIF($L$2:$BS$2,I$2,$L42:$BS42) -> 0 | J42: =AVERAGEIF($L$2:$BS$2,J$2,$L42:$BS42) -> 0 | L42: =$C42*L$59 -> 0 | M42: =$C42*M$59 -> 0 | N42: =$C42*N$59 -> 0 | O42: =$C42*O$59 -> 0 | P42: =$C42*P$59 -> 0 | Q42: =$C42*Q$59 -> 0 | R42: =$C42*R$59 -> 0 | S42: =$C42*S$59 -> 0 | ... BS42: =$C42*BS$59 -> 0
A43: =Допущения!A52 -> Маркетинговые
A44: =Допущения!A53 -> Онлайн-реклама | B44: =Допущения!B53 -> руб./мес. | C44: =Допущения!$C53/(1+Допущения!$C$68) -> 125000 | E44: =AVERAGEIF($L$2:$BS$2,E$2,$L44:$BS44) -> 125000 | F44: =AVERAGEIF($L$2:$BS$2,F$2,$L44:$BS44) -> 131250 | G44: =AVERAGEIF($L$2:$BS$2,G$2,$L44:$BS44) -> 137812.5 | H44: =AVERAGEIF($L$2:$BS$2,H$2,$L44:$BS44) -> 144703.13 | I44: =AVERAGEIF($L$2:$BS$2,I$2,$L44:$BS44) -> 151938.28 | J44: =AVERAGEIF($L$2:$BS$2,J$2,$L44:$BS44) -> 159535.2 | L44: =$C44*L$59 -> 125000 | M44: =$C44*M$59 -> 125000 | N44: =$C44*N$59 -> 125000 | O44: =$C44*O$59 -> 125000 | P44: =$C44*P$59 -> 131250 | Q44: =$C44*Q$59 -> 131250 | R44: =$C44*R$59 -> 131250 | S44: =$C44*S$59 -> 131250 | ... BS44: =$C44*BS$59 -> 159535.2
...

Sheet Объемы реализации
A1: Квартал (порядковый № в году) | C1: =IF(OR(MONTH(C3)=1,MONTH(C3)=2,MONTH(C3)=3),1,IF(OR(MONTH(C3)=4,MONTH(C3)=5,MONTH(C3)=6),2,IF(OR(MONTH(C3)=7,MONTH(C3)=8,MONTH(C3)=9),3,4))) -> 3 | D1: =IF(OR(MONTH(D3)=1,MONTH(D3)=2,MONTH(D3)=3),1,IF(OR(MONTH(D3)=4,MONTH(D3)=5,MONTH(D3)=6),2,IF(OR(MONTH(D3)=7,MONTH(D3)=8,MONTH(D3)=9),3,4))) -> 4 | E1: =IF(OR(MONTH(E3)=1,MONTH(E3)=2,MONTH(E3)=3),1,IF(OR(MONTH(E3)=4,MONTH(E3)=5,MONTH(E3)=6),2,IF(OR(MONTH(E3)=7,MONTH(E3)=8,MONTH(E3)=9),3,4))) -> 4 | F1: =IF(OR(MONTH(F3)=1,MONTH(F3)=2,MONTH(F3)=3),1,IF(OR(MONTH(F3)=4,MONTH(F3)=5,MONTH(F3)=6),2,IF(OR(MONTH(F3)=7,MONTH(F3)=8,MONTH(F3)=9),3,4))) -> 4 | G1: =IF(OR(MONTH(G3)=1,MONTH(G3)=2,MONTH(G3)=3),1,IF(OR(MONTH(G3)=4,MONTH(G3)=5,MONTH(G3)=6),2,IF(OR(MONTH(G3)=7,MONTH(G3)=8,MONTH(G3)=9),3,4))) -> 1 | H1: =IF(OR(MONTH(H3)=1,MONTH(H3)=2,MONTH(H3)=3),1,IF(OR(MONTH(H3)=4,MONTH(H3)=5,MONTH(H3)=6),2,IF(OR(MONTH(H3)=7,MONTH(H3)=8,MONTH(H3)=9),3,4))) -> 1 | I1: =IF(OR(MONTH(I3)=1,MONTH(I3)=2,MONTH(I3)=3),1,IF(OR(MONTH(I3)=4,MONTH(I3)=5,MONTH(I3)=6),2,IF(OR(MONTH(I3)=7,MONTH(I3)=8,MONTH(I3)=9),3,4))) -> 1 | J1: =IF(OR(MONTH(J3)=1,MONTH(J3)=2,MONTH(J3)=3),1,IF(OR(MONTH(J3)=4,MONTH(J3)=5,MONTH(J3)=6),2,IF(OR(MONTH(J3)=7,MONTH(J3)=8,MONTH(J3)=9),3,4))) -> 2 | ... BJ1: =IF(OR(MONTH(BJ3)=1,MONTH(BJ3)=2,MONTH(BJ3)=3),1,IF(OR(MONTH(BJ3)=4,MONTH(BJ3)=5,MONTH(BJ3)=6),2,IF(OR(MONTH(BJ3)=7,MONTH(BJ3)=8,MONTH(BJ3)=9),3,4))) -> 3
A2: Год | C2: =YEAR(C3) -> 2025 | D2: =YEAR(D3) -> 2025 | E2: =YEAR(E3) -> 2025 | F2: =YEAR(F3) -> 2025 | G2: =YEAR(G3) -> 2026 | H2: =YEAR(H3) -> 2026 | I2: =YEAR(I3) -> 2026 | J2: =YEAR(J3) -> 2026 | ... BJ2: =YEAR(BJ3) -> 2030 | BL2: =YEAR(Допущения!C4) -> 2025 | BM2: =BL2+1 -> 2026 | BN2: =BM2+1 -> 2027 | BO2: =BN2+1 -> 2028 | BP2: =BO2+1 -> 2029 | BQ2: =BP2+1 -> 2030
A3: Месяц | C3: =Допущения!C4 -> 45901 | D3: =DATE(YEAR(C3),MONTH(C3)+1,1) -> 45931 | E3: =DATE(YEAR(D3),MONTH(D3)+1,1) -> 45962 | F3: =DATE(YEAR(E3),MONTH(E3)+1,1) -> 45992 | G3: =DATE(YEAR(F3),MONTH(F3)+1,1) -> 46023 | H3: =DATE(YEAR(G3),MONTH(G3)+1,1) -> 46054 | I3: =DATE(YEAR(H3),MONTH(H3)+1,1) -> 46082 | J3: =DATE(YEAR(I3),MONTH(I3)+1,1) -> 46113 | K3: =DATE(YEAR(J3),MONTH(J3)+1,1) -> 46143 | ... BK3: =DATE(YEAR(BJ3),MONTH(BJ3)+1,1) -> 47727
A4: К-во дней в месяце | C4: =D3-C3 -> 30 | D4: =E3-D3 -> 31 | E4: =F3-E3 -> 30 | F4: =G3-F3 -> 31 | G4: =H3-G3 -> 31 | H4: =I3-H3 -> 28 | I4: =J3-I3 -> 31 | J4: =K3-J3 -> 30 | ... BJ4: =BK3-BJ3 -> 31
A5: Порядковый № периода | C5: 1 | D5: =C5+1 -> 2 | E5: =D5+1 -> 3 | F5: =E5+1 -> 4 | G5: =F5+1 -> 5 | H5: =G5+1 -> 6 | I5: =H5+1 -> 7 | J5: =I5+1 -> 8 | K5: =J5+1 -> 9 | ... BJ5: =BI5+1 -> 60
A7: Объем производства продукции/План развития производства | B7: Ед. изм. | C7: 0 | D7: 0 | E7: 0 | F7: 0.2 | G7: 0.4 | H7: 0.6 | I7: 0.8 | J7: 1 | K7: 1 | L7: 1 | M7: 1 | N7: 1 | O7: 1 | P7: 1 | Q7: 1 | R7: 1 | S7: 1 | T7: 1 | U7: 1 | V7: 1 | W7: 1 | X7: 1 | Y7: 1 | Z7: 1 | AA7: 1 | AB7: 1 | AC7: 1 | AD7: 1 | AE7: 1 | AF7: 1 | AG7: 1 | AH7: 1 | AI7: 1 | AJ7: 1 | AK7: 1 | AL7: 1 | AM7: 1 | AN7: 1 | AO7: 1 | AP7: 1 | AQ7: 1 | AR7: 1 | AS7: 1 | AT7: 1 | AU7: 1 | AV7: 1 | AW7: 1 | AX7: 1 | AY7: 1 | AZ7: 1 | BA7: 1 | BB7: 1 | BC7: 1 | BD7: 1 | BE7: 1 | BF7: 1 | BG7: 1 | BH7: 1 | BI7: 1 | BJ7: 1
A8: =Допущения!A8 -> Свиные полутуши | B8: =Допущения!B8 -> кг/мес. | C8: =ROUND(Допущения!$C8*'Объемы реализации'!C$7*SUMIF(Сезонность!$B$1:$M$1,MONTH('Объемы реализации'!C$3),Сезонность!$B$3:$M$3),0) -> 0 | D8: =ROUND(Допущения!$C8*'Объемы реализации'!D$7*SUMIF(Сезонность!$B$1:$M$1,MONTH('Объемы реализации'!D$3),Сезонность!$B$3:$M$3),0) -> 0 | E8: =ROUND(Допущения!$C8*'Объемы реализации'!E$7*SUMIF(Сезонность!$B$1:$M$1,MONTH('Объемы реализации'!E$3),Сезонность!$B$3:$M$3),0) -> 0 | F8: =ROUND(Допущения!$C8*'Объемы реализации'!F$7*SUMIF(Сезонность!$B$1:$M$1,MONTH('Объемы реализации'!F$3),Сезонность!$B$3:$M$3),0) -> 48000 | G8: =ROUND(Допущения!$C8*'Объемы реализации'!G$7*SUMIF(Сезонность!$B$1:$M$1,MONTH('Объемы реализации'!G$3),Сезонность!$B$3:$M$3),0) -> 96000 | H8: =ROUND(Допущения!$C8*'Объемы реализации'!H$7*SUMIF(Сезонность!$B$1:$M$1,MONTH('Объемы реализации'!H$3),Сезонность!$B$3:$M$3),0) -> 144000 | I8: =ROUND(Допущения!$C8*'Объемы реализации'!I$7*SUMIF(Сезонность!$B$1:$M$1,MONTH('Объемы реализации'!I$3),Сезонность!$B$3:$M$3),0) -> 192000 | J8: =ROUND(Допущения!$C8*'Объемы реализации'!J$7*SUMIF(Сезонность!$B$1:$M$1,MONTH('Объемы реализации'!J$3),Сезонность!$B$3:$M$3),0) -> 240000 | ... BJ8: =ROUND(Допущения!$C8*'Объемы реализации'!BJ$7*SUMIF(Сезонность!$B$1:$M$1,MONTH('Объемы реализации'!BJ$3),Сезонность!$B$3:$M$3),0) -> 240000 | BL8: =SUMIF($C$2:$BJ$2,BL$2,$C8:$BJ8) -> 48000 | BM8: =SUMIF($C$2:$BJ$2,BM$2,$C8:$BJ8) -> 2592000 | BN8: =SUMIF($C$2:$BJ$2,BN$2,$C8:$BJ8) -> 2880000 | BO8: =SUMIF($C$2:$BJ$2,BO$2,$C8:$BJ8) -> 2880000 | BP8: =SUMIF($C$2:$BJ$2,BP$2,$C8:$BJ8) -> 2880000 | BQ8: =SUMIF($C$2:$BJ$2,BQ$2,$C8:$BJ8) -> 1920000
A9: =Допущения!A9 -> Говядина четверти | B9: =Допущения!B9 -> кг/мес. | C9: =ROUND(Допущения!$C9*'Объемы реализации'!C$7*SUMIF(Сезонность!$B$1:$M$1,MONTH('Объемы реализации'!C$3),Сезонность!$B$3:$M$3),0) -> 0 | D9: =ROUND(Допущения!$C9*'Объемы реализации'!D$7*SUMIF(Сезонность!$B$1:$M$1,MONTH('Объемы реализации'!D$3),Сезонность!$B$3:$M$3),0) -> 0 | E9: =ROUND(Допущения!$C9*'Объемы реализации'!E$7*SUMIF(Сезонность!$B$1:$M$1,MONTH('Объемы реализации'!E$3),Сезонность!$B$3:$M$3),0) -> 0 | F9: =ROUND(Допущения!$C9*'Объемы реализации'!F$7*SUMIF(Сезонность!$B$1:$M$1,MONTH('Объемы реализации'!F$3),Сезонность!$B$3:$M$3),0) -> 24000 | G9: =ROUND(Допущения!$C9*'Объемы реализации'!G$7*SUMIF(Сезонность!$B$1:$M$1,MONTH('Объемы реализации'!G$3),Сезонность!$B$3:$M$3),0) -> 48000 | H9: =ROUND(Допущения!$C9*'Объемы реализации'!H$7*SUMIF(Сезонность!$B$1:$M$1,MONTH('Объемы реализации'!H$3),Сезонность!$B$3:$M$3),0) -> 72000 | I9: =ROUND(Допущения!$C9*'Объемы реализации'!I$7*SUMIF(Сезонность!$B$1:$M$1,MONTH('Объемы реализации'!I$3),Сезонность!$B$3:$M$3),0) -> 96000 | J9: =ROUND(Допущения!$C9*'Объемы реализации'!J$7*SUMIF(Сезонность!$B$1:$M$1,MONTH('Объемы реализации'!J$3),Сезонность!$B$3:$M$3),0) -> 120000 | ... BJ9: =ROUND(Допущения!$C9*'Объемы реализации'!BJ$7*SUMIF(Сезонность!$B$1:$M$1,MONTH('Объемы реализации'!BJ$3),Сезонность!$B$3:$M$3),0) -> 120000 | BL9: =SUMIF($C$2:$BJ$2,BL$2,$C9:$BJ9) -> 24000 | BM9: =SUMIF($C$2:$BJ$2,BM$2,$C9:$BJ9) -> 1296000 | BN9: =SUMIF($C$2:$BJ$2,BN$2,$C9:$BJ9) -> 1440000 | BO9: =SUMIF($C$2:$BJ$2,BO$2,$C9:$BJ9) -> 1440000 | BP9: =SUMIF($C$2:$BJ$2,BP$2,$C9:$BJ9) -> 1440000 | BQ9: =SUMIF($C$2:$BJ$2,BQ$2,$C9:$BJ9) -> 960000
A10: =Допущения!A10 -> Тушки куриные | B10: =Допущения!B10 -> кг/мес. | C10: =ROUND(Допущения!$C10*'Объемы реализации'!C$7*SUMIF(Сезонность!$B$1:$M$1,MONTH('Объемы реализации'!C$3),Сезонность!$B$3:$M$3),0) -> 0 | D10: =ROUND(Допущения!$C10*'Объемы реализации'!D$7*SUMIF(Сезонность!$B$1:$M$1,MONTH('Объемы реализации'!D$3),Сезонность!$B$3:$M$3),0) -> 0 | E10: =ROUND(Допущения!$C10*'Объемы реализации'!E$7*SUMIF(Сезонность!$B$1:$M$1,MONTH('Объемы реализации'!E$3),Сезонность!$B$3:$M$3),0) -> 0 | F10: =ROUND(Допущения!$C10*'Объемы реализации'!F$7*SUMIF(Сезонность!$B$1:$M$1,MONTH('Объемы реализации'!F$3),Сезонность!$B$3:$M$3),0) -> 24000 | G10: =ROUND(Допущения!$C10*'Объемы реализации'!G$7*SUMIF(Сезонность!$B$1:$M$1,MONTH('Объемы реализации'!G$3),Сезонность!$B$3:$M$3),0) -> 48000 | H10: =ROUND(Допущения!$C10*'Объемы реализации'!H$7*SUMIF(Сезонность!$B$1:$M$1,MONTH('Объемы реализации'!H$3),Сезонность!$B$3:$M$3),0) -> 72000 | I10: =ROUND(Допущения!$C10*'Объемы реализации'!I$7*SUMIF(Сезонность!$B$1:$M$1,MONTH('Объемы реализации'!I$3),Сезонность!$B$3:$M$3),0) -> 96000 | J10: =ROUND(Допущения!$C10*'Объемы реализации'!J$7*SUMIF(Сезонность!$B$1:$M$1,MONTH('Объемы реализации'!J$3),Сезонность!$B$3:$M$3),0) -> 120000 | ... BJ10: =ROUND(Допущения!$C10*'Объемы реализации'!BJ$7*SUMIF(Сезонность!$B$1:$M$1,MONTH('Объемы реализации'!BJ$3),Сезонность!$B$3:$M$3),0) -> 120000 | BL10: =SUMIF($C$2:$BJ$2,BL$2,$C10:$BJ10) -> 24000 | BM10: =SUMIF($C$2:$BJ$2,BM$2,$C10:$BJ10) -> 1296000 | BN10: =SUMIF($C$2:$BJ$2,BN$2,$C10:$BJ10) -> 1440000 | BO10: =SUMIF($C$2:$BJ$2,BO$2,$C10:$BJ10) -> 1440000 | BP10: =SUMIF($C$2:$BJ$2,BP$2,$C10:$BJ10) -> 1440000 | BQ10: =SUMIF($C$2:$BJ$2,BQ$2,$C10:$BJ10) -> 960000
A11: =Допущения!A11 -> Тушки индейки | B11: =Допущения!B11 -> кг/мес. | C11: =ROUND(Допущения!$C11*'Объемы реализации'!C$7*SUMIF(Сезонность!$B$1:$M$1,MONTH('Объемы реализации'!C$3),Сезонность!$B$3:$M$3),0) -> 0 | D11: =ROUND(Допущения!$C11*'Объемы реализации'!D$7*SUMIF(Сезонность!$B$1:$M$1,MONTH('Объемы реализации'!D$3),Сезонность!$B$3:$M$3),0) -> 0 | E11: =ROUND(Допущения!$C11*'Объемы реализации'!E$7*SUMIF(Сезонность!$B$1:$M$1,MONTH('Объемы реализации'!E$3),Сезонность!$B$3:$M$3),0) -> 0 | F11: =ROUND(Допущения!$C11*'Объемы реализации'!F$7*SUMIF(Сезонность!$B$1:$M$1,MONTH('Объемы реализации'!F$3),Сезонность!$B$3:$M$3),0) -> 24000 | G11: =ROUND(Допущения!$C11*'Объемы реализации'!G$7*SUMIF(Сезонность!$B$1:$M$1,MONTH('Объемы реализации'!G$3),Сезонность!$B$3:$M$3),0) -> 48000 | H11: =ROUND(Допущения!$C11*'Объемы реализации'!H$7*SUMIF(Сезонность!$B$1:$M$1,MONTH('Объемы реализации'!H$3),Сезонность!$B$3:$M$3),0) -> 72000 | I11: =ROUND(Допущения!$C11*'Объемы реализации'!I$7*SUMIF(Сезонность!$B$1:$M$1,MONTH('Объемы реализации'!I$3),Сезонность!$B$3:$M$3),0) -> 96000 | J11: =ROUND(Допущения!$C11*'Объемы реализации'!J$7*SUMIF(Сезонность!$B$1:$M$1,MONTH('Объемы реализации'!J$3),Сезонность!$B$3:$M$3),0) -> 120000 | ... BJ11: =ROUND(Допущения!$C11*'Объемы реализации'!BJ$7*SUMIF(Сезонность!$B$1:$M$1,MONTH('Объемы реализации'!BJ$3),Сезонность!$B$3:$M$3),0) -> 120000 | BL11: =SUMIF($C$2:$BJ$2,BL$2,$C11:$BJ11) -> 24000 | BM11: =SUMIF($C$2:$BJ$2,BM$2,$C11:$BJ11) -> 1296000 | BN11: =SUMIF($C$2:$BJ$2,BN$2,$C11:$BJ11) -> 1440000 | BO11: =SUMIF($C$2:$BJ$2,BO$2,$C11:$BJ11) -> 1440000 | BP11: =SUMIF($C$2:$BJ$2,BP$2,$C11:$BJ11) -> 1440000 | BQ11: =SUMIF($C$2:$BJ$2,BQ$2,$C11:$BJ11) -> 960000
A12: =Допущения!A12 -> Котлеты замороженные | B12: =Допущения!B12 -> кг/мес. | C12: =ROUND(Допущения!$C12*'Объемы реализации'!C$7*SUMIF(Сезонность!$B$1:$M$1,MONTH('Объемы реализации'!C$3),Сезонность!$B$3:$M$3),0) -> 0 | D12: =ROUND(Допущения!$C12*'Объемы реализации'!D$7*SUMIF(Сезонность!$B$1:$M$1,MONTH('Объемы реализации'!D$3),Сезонность!$B$3:$M$3),0) -> 0 | E12: =ROUND(Допущения!$C12*'Объемы реализации'!E$7*SUMIF(Сезонность!$B$1:$M$1,MONTH('Объемы реализации'!E$3),Сезонность!$B$3:$M$3),0) -> 0 | F12: =ROUND(Допущения!$C12*'Объемы реализации'!F$7*SUMIF(Сезонность!$B$1:$M$1,MONTH('Объемы реализации'!F$3),Сезонность!$B$3:$M$3),0) -> 21000 | G12: =ROUND(Допущения!$C12*'Объемы реализации'!G$7*SUMIF(Сезонность!$B$1:$M$1,MONTH('Объемы реализации'!G$3),Сезонность!$B$3:$M$3),0) -> 42000 | H12: =ROUND(Допущения!$C12*'Объемы реализации'!H$7*SUMIF(Сезонность!$B$1:$M$1,MONTH('Объемы реализации'!H$3),Сезонность!$B$3:$M$3),0) -> 63000 | I12: =ROUND(Допущения!$C12*'Объемы реализации'!I$7*SUMIF(Сезонность!$B$1:$M$1,MONTH('Объемы реализации'!I$3),Сезонность!$B$3:$M$3),0) -> 84000 | J12: =ROUND(Допущения!$C12*'Объемы реализации'!J$7*SUMIF(Сезонность!$B$1:$M$1,MONTH('Объемы реализации'!J$3),Сезонность!$B$3:$M$3),0) -> 105000 | ... BJ12: =ROUND(Допущения!$C12*'Объемы реализации'!BJ$7*SUMIF(Сезонность!$B$1:$M$1,MONTH('Объемы реализации'!BJ$3),Сезонность!$B$3:$M$3),0) -> 105000 | BL12: =SUMIF($C$2:$BJ$2,BL$2,$C12:$BJ12) -> 21000 | BM12: =SUMIF($C$2:$BJ$2,BM$2,$C12:$BJ12) -> 1134000 | BN12: =SUMIF($C$2:$BJ$2,BN$2,$C12:$BJ12) -> 1260000 | BO12: =SUMIF($C$2:$BJ$2,BO$2,$C12:$BJ12) -> 1260000 | BP12: =SUMIF($C$2:$BJ$2,BP$2,$C12:$BJ12) -> 1260000 | BQ12: =SUMIF($C$2:$BJ$2,BQ$2,$C12:$BJ12) -> 840000
A13: =Допущения!A13 -> Шашлык маринованный | B13: =Допущения!B13 -> кг/мес. | C13: =ROUND(Допущения!$C13*'Объемы реализации'!C$7*SUMIF(Сезонность!$B$1:$M$1,MONTH('Объемы реализации'!C$3),Сезонность!$B$3:$M$3),0) -> 0 | D13: =ROUND(Допущения!$C13*'Объемы реализации'!D$7*SUMIF(Сезонность!$B$1:$M$1,MONTH('Объемы реализации'!D$3),Сезонность!$B$3:$M$3),0) -> 0 | E13: =ROUND(Допущения!$C13*'Объемы реализации'!E$7*SUMIF(Сезонность!$B$1:$M$1,MONTH('Объемы реализации'!E$3),Сезонность!$B$3:$M$3),0) -> 0 | F13: =ROUND(Допущения!$C13*'Объемы реализации'!F$7*SUMIF(Сезонность!$B$1:$M$1,MONTH('Объемы реализации'!F$3),Сезонность!$B$3:$M$3),0) -> 30000 | G13: =ROUND(Допущения!$C13*'Объемы реализации'!G$7*SUMIF(Сезонность!$B$1:$M$1,MONTH('Объемы реализации'!G$3),Сезонность!$B$3:$M$3),0) -> 60000 | H13: =ROUND(Допущения!$C13*'Объемы реализации'!H$7*SUMIF(Сезонность!$B$1:$M$1,MONTH('Объемы реализации'!H$3),Сезонность!$B$3:$M$3),0) -> 90000 | I13: =ROUND(Допущения!$C13*'Объемы реализации'!I$7*SUMIF(Сезонность!$B$1:$M$1,MONTH('Объемы реализации'!I$3),Сезонность!$B$3:$M$3),0) -> 120000 | J13: =ROUND(Допущения!$C13*'Объемы реализации'!J$7*SUMIF(Сезонность!$B$1:$M$1,MONTH('Объемы реализации'!J$3),Сезонность!$B$3:$M$3),0) -> 150000 | ... BJ13: =ROUND(Допущения!$C13*'Объемы реализации'!BJ$7*SUMIF(Сезонность!$B$1:$M$1,MONTH('Объемы реализации'!BJ$3),Сезонность!$B$3:$M$3),0) -> 150000 | BL13: =SUMIF($C$2:$BJ$2,BL$2,$C13:$BJ13) -> 30000 | BM13: =SUMIF($C$2:$BJ$2,BM$2,$C13:$BJ13) -> 1620000 | BN13: =SUMIF($C$2:$BJ$2,BN$2,$C13:$BJ13) -> 1800000 | BO13: =SUMIF($C$2:$BJ$2,BO$2,$C13:$BJ13) -> 1800000 | BP13: =SUMIF($C$2:$BJ$2,BP$2,$C13:$BJ13) -> 1800000 | BQ13: =SUMIF($C$2:$BJ$2,BQ$2,$C13:$BJ13) -> 1200000
A14: =Допущения!A14 -> Фрикадельки | B14: =Допущения!B14 -> кг/мес. | C14: =ROUND(Допущения!$C14*'Объемы реализации'!C$7*SUMIF(Сезонность!$B$1:$M$1,MONTH('Объемы реализации'!C$3),Сезонность!$B$3:$M$3),0) -> 0 | D14: =ROUND(Допущения!$C14*'Объемы реализации'!D$7*SUMIF(Сезонность!$B$1:$M$1,MONTH('Объемы реализации'!D$3),Сезонность!$B$3:$M$3),0) -> 0 | E14: =ROUND(Допущения!$C14*'Объемы реализации'!E$7*SUMIF(Сезонность!$B$1:$M$1,MONTH('Объемы реализации'!E$3),Сезонность!$B$3:$M$3),0) -> 0 | F14: =ROUND(Допущения!$C14*'Объемы реализации'!F$7*SUMIF(Сезонность!$B$1:$M$1,MONTH('Объемы реализации'!F$3),Сезонность!$B$3:$M$3),0) -> 21000 | G14: =ROUND(Допущения!$C14*'Объемы реализации'!G$7*SUMIF(Сезонность!$B$1:$M$1,MONTH('Объемы реализации'!G$3),Сезонность!$B$3:$M$3),0) -> 42000 | H14: =ROUND(Допущения!$C14*'Объемы реализации'!H$7*SUMIF(Сезонность!$B$1:$M$1,MONTH('Объемы реализации'!H$3),Сезонность!$B$3:$M$3),0) -> 63000 | I14: =ROUND(Допущения!$C14*'Объемы реализации'!I$7*SUMIF(Сезонность!$B$1:$M$1,MONTH('Объемы реализации'!I$3),Сезонность!$B$3:$M$3),0) -> 84000 | J14: =ROUND(Допущения!$C14*'Объемы реализации'!J$7*SUMIF(Сезонность!$B$1:$M$1,MONTH('Объемы реализации'!J$3),Сезонность!$B$3:$M$3),0) -> 105000 | ... BJ14: =ROUND(Допущения!$C14*'Объемы реализации'!BJ$7*SUMIF(Сезонность!$B$1:$M$1,MONTH('Объемы реализации'!BJ$3),Сезонность!$B$3:$M$3),0) -> 105000 | BL14: =SUMIF($C$2:$BJ$2,BL$2,$C14:$BJ14) -> 21000 | BM14: =SUMIF($C$2:$BJ$2,BM$2,$C14:$BJ14) -> 1134000 | BN14: =SUMIF($C$2:$BJ$2,BN$2,$C14:$BJ14) -> 1260000 | BO14: =SUMIF($C$2:$BJ$2,BO$2,$C14:$BJ14) -> 1260000 | BP14: =SUMIF($C$2:$BJ$2,BP$2,$C14:$BJ14) -> 1260000 | BQ14: =SUMIF($C$2:$BJ$2,BQ$2,$C14:$BJ14) -> 840000
A15: =Допущения!A15 -> Пельмени | B15: =Допущения!B15 -> кг/мес. | C15: =ROUND(Допущения!$C15*'Объемы реализации'!C$7*SUMIF(Сезонность!$B$1:$M$1,MONTH('Объемы реализации'!C$3),Сезонность!$B$3:$M$3),0) -> 0 | D15: =ROUND(Допущения!$C15*'Объемы реализации'!D$7*SUMIF(Сезонность!$B$1:$M$1,MONTH('Объемы реализации'!D$3),Сезонность!$B$3:$M$3),0) -> 0 | E15: =ROUND(Допущения!$C15*'Объемы реализации'!E$7*SUMIF(Сезонность!$B$1:$M$1,MONTH('Объемы реализации'!E$3),Сезонность!$B$3:$M$3),0) -> 0 | F15: =ROUND(Допущения!$C15*'Объемы реализации'!F$7*SUMIF(Сезонность!$B$1:$M$1,MONTH('Объемы реализации'!F$3),Сезонность!$B$3:$M$3),0) -> 20000 | G15: =ROUND(Допущения!$C15*'Объемы реализации'!G$7*SUMIF(Сезонность!$B$1:$M$1,MONTH('Объемы реализации'!G$3),Сезонность!$B$3:$M$3),0) -> 40000 | H15: =ROUND(Допущения!$C15*'Объемы реализации'!H$7*SUMIF(Сезонность!$B$1:$M$1,MONTH('Объемы реализации'!H$3),Сезонность!$B$3:$M$3),0) -> 60000 | I15: =ROUND(Допущения!$C15*'Объемы реализации'!I$7*SUMIF(Сезонность!$B$1:$M$1,MONTH('Объемы реализации'!I$3),Сезонность!$B$3:$M$3),0) -> 80000 | J15: =ROUND(Допущения!$C15*'Объемы реализации'!J$7*SUMIF(Сезонность!$B$1:$M$1,MONTH('Объемы реализации'!J$3),Сезонность!$B$3:$M$3),0) -> 100000 | ... BJ15: =ROUND(Допущения!$C15*'Объемы реализации'!BJ$7*SUMIF(Сезонность!$B$1:$M$1,MONTH('Объемы реализации'!BJ$3),Сезонность!$B$3:$M$3),0) -> 100000 | BL15: =SUMIF($C$2:$BJ$2,BL$2,$C15:$BJ15) -> 20000 | BM15: =SUMIF($C$2:$BJ$2,BM$2,$C15:$BJ15) -> 1080000 | BN15: =SUMIF($C$2:$BJ$2,BN$2,$C15:$BJ15) -> 1200000 | BO15: =SUMIF($C$2:$BJ$2,BO$2,$C15:$BJ15) -> 1200000 | BP15: =SUMIF($C$2:$BJ$2,BP$2,$C15:$BJ15) -> 1200000 | BQ15: =SUMIF($C$2:$BJ$2,BQ$2,$C15:$BJ15) -> 800000
A16: =Допущения!A16 -> - | B16: =Допущения!B16 -> кг/мес. | C16: =ROUND(Допущения!$C16*'Объемы реализации'!C$7*SUMIF(Сезонность!$B$1:$M$1,MONTH('Объемы реализации'!C$3),Сезонность!$B$3:$M$3),0) -> 0 | D16: =ROUND(Допущения!$C16*'Объемы реализации'!D$7*SUMIF(Сезонность!$B$1:$M$1,MONTH('Объемы реализации'!D$3),Сезонность!$B$3:$M$3),0) -> 0 | E16: =ROUND(Допущения!$C16*'Объемы реализации'!E$7*SUMIF(Сезонность!$B$1:$M$1,MONTH('Объемы реализации'!E$3),Сезонность!$B$3:$M$3),0) -> 0 | F16: =ROUND(Допущения!$C16*'Объемы реализации'!F$7*SUMIF(Сезонность!$B$1:$M$1,MONTH('Объемы реализации'!F$3),Сезонность!$B$3:$M$3),0) -> 0 | G16: =ROUND(Допущения!$C16*'Объемы реализации'!G$7*SUMIF(Сезонность!$B$1:$M$1,MONTH('Объемы реализации'!G$3),Сезонность!$B$3:$M$3),0) -> 0 | H16: =ROUND(Допущения!$C16*'Объемы реализации'!H$7*SUMIF(Сезонность!$B$1:$M$1,MONTH('Объемы реализации'!H$3),Сезонность!$B$3:$M$3),0) -> 0 | I16: =ROUND(Допущения!$C16*'Объемы реализации'!I$7*SUMIF(Сезонность!$B$1:$M$1,MONTH('Объемы реализации'!I$3),Сезонность!$B$3:$M$3),0) -> 0 | J16: =ROUND(Допущения!$C16*'Объемы реализации'!J$7*SUMIF(Сезонность!$B$1:$M$1,MONTH('Объемы реализации'!J$3),Сезонность!$B$3:$M$3),0) -> 0 | ... BJ16: =ROUND(Допущения!$C16*'Объемы реализации'!BJ$7*SUMIF(Сезонность!$B$1:$M$1,MONTH('Объемы реализации'!BJ$3),Сезонность!$B$3:$M$3),0) -> 0 | BL16: =SUMIF($C$2:$BJ$2,BL$2,$C16:$BJ16) -> 0 | BM16: =SUMIF($C$2:$BJ$2,BM$2,$C16:$BJ16) -> 0 | BN16: =SUMIF($C$2:$BJ$2,BN$2,$C16:$BJ16) -> 0 | BO16: =SUMIF($C$2:$BJ$2,BO$2,$C16:$BJ16) -> 0 | BP16: =SUMIF($C$2:$BJ$2,BP$2,$C16:$BJ16) -> 0 | BQ16: =SUMIF($C$2:$BJ$2,BQ$2,$C16:$BJ16) -> 0
A17: =Допущения!A17 -> - | B17: =Допущения!B17 -> кг/мес. | C17: =ROUND(Допущения!$C17*'Объемы реализации'!C$7*SUMIF(Сезонность!$B$1:$M$1,MONTH('Объемы реализации'!C$3),Сезонность!$B$3:$M$3),0) -> 0 | D17: =ROUND(Допущения!$C17*'Объемы реализации'!D$7*SUMIF(Сезонность!$B$1:$M$1,MONTH('Объемы реализации'!D$3),Сезонность!$B$3:$M$3),0) -> 0 | E17: =ROUND(Допущения!$C17*'Объемы реализации'!E$7*SUMIF(Сезонность!$B$1:$M$1,MONTH('Объемы реализации'!E$3),Сезонность!$B$3:$M$3),0) -> 0 | F17: =ROUND(Допущения!$C17*'Объемы реализации'!F$7*SUMIF(Сезонность!$B$1:$M$1,MONTH('Объемы реализации'!F$3),Сезонность!$B$3:$M$3),0) -> 0 | G17: =ROUND(Допущения!$C17*'Объемы реализации'!G$7*SUMIF(Сезонность!$B$1:$M$1,MONTH('Объемы реализации'!G$3),Сезонность!$B$3:$M$3),0) -> 0 | H17: =ROUND(Допущения!$C17*'Объемы реализации'!H$7*SUMIF(Сезонность!$B$1:$M$1,MONTH('Объемы реализации'!H$3),Сезонность!$B$3:$M$3),0) -> 0 | I17: =ROUND(Допущения!$C17*'Объемы реализации'!I$7*SUMIF(Сезонность!$B$1:$M$1,MONTH('Объемы реализации'!I$3),Сезонность!$B$3:$M$3),0) -> 0 | J17: =ROUND(Допущения!$C17*'Объемы реализации'!J$7*SUMIF(Сезонность!$B$1:$M$1,MONTH('Объемы реализации'!J$3),Сезонность!$B$3:$M$3),0) -> 0 | ... BJ17: =ROUND(Допущения!$C17*'Объемы реализации'!BJ$7*SUMIF(Сезонность!$B$1:$M$1,MONTH('Объемы реализации'!BJ$3),Сезонность!$B$3:$M$3),0) -> 0 | BL17: =SUMIF($C$2:$BJ$2,BL$2,$C17:$BJ17) -> 0 | BM17: =SUMIF($C$2:$BJ$2,BM$2,$C17:$BJ17) -> 0 | BN17: =SUMIF($C$2:$BJ$2,BN$2,$C17:$BJ17) -> 0 | BO17: =SUMIF($C$2:$BJ$2,BO$2,$C17:$BJ17) -> 0 | BP17: =SUMIF($C$2:$BJ$2,BP$2,$C17:$BJ17) -> 0 | BQ17: =SUMIF($C$2:$BJ$2,BQ$2,$C17:$BJ17) -> 0

Sheet Выручка
A1: Квартал (порядковый № в году) | B1: =IF(OR(MONTH(B3)=1,MONTH(B3)=2,MONTH(B3)=3),1,IF(OR(MONTH(B3)=4,MONTH(B3)=5,MONTH(B3)=6),2,IF(OR(MONTH(B3)=7,MONTH(B3)=8,MONTH(B3)=9),3,4))) -> 3 | C1: =IF(OR(MONTH(C3)=1,MONTH(C3)=2,MONTH(C3)=3),1,IF(OR(MONTH(C3)=4,MONTH(C3)=5,MONTH(C3)=6),2,IF(OR(MONTH(C3)=7,MONTH(C3)=8,MONTH(C3)=9),3,4))) -> 4 | D1: =IF(OR(MONTH(D3)=1,MONTH(D3)=2,MONTH(D3)=3),1,IF(OR(MONTH(D3)=4,MONTH(D3)=5,MONTH(D3)=6),2,IF(OR(MONTH(D3)=7,MONTH(D3)=8,MONTH(D3)=9),3,4))) -> 4 | E1: =IF(OR(MONTH(E3)=1,MONTH(E3)=2,MONTH(E3)=3),1,IF(OR(MONTH(E3)=4,MONTH(E3)=5,MONTH(E3)=6),2,IF(OR(MONTH(E3)=7,MONTH(E3)=8,MONTH(E3)=9),3,4))) -> 4 | F1: =IF(OR(MONTH(F3)=1,MONTH(F3)=2,MONTH(F3)=3),1,IF(OR(MONTH(F3)=4,MONTH(F3)=5,MONTH(F3)=6),2,IF(OR(MONTH(F3)=7,MONTH(F3)=8,MONTH(F3)=9),3,4))) -> 1 | G1: =IF(OR(MONTH(G3)=1,MONTH(G3)=2,MONTH(G3)=3),1,IF(OR(MONTH(G3)=4,MONTH(G3)=5,MONTH(G3)=6),2,IF(OR(MONTH(G3)=7,MONTH(G3)=8,MONTH(G3)=9),3,4))) -> 1 | H1: =IF(OR(MONTH(H3)=1,MONTH(H3)=2,MONTH(H3)=3),1,IF(OR(MONTH(H3)=4,MONTH(H3)=5,MONTH(H3)=6),2,IF(OR(MONTH(H3)=7,MONTH(H3)=8,MONTH(H3)=9),3,4))) -> 1 | I1: =IF(OR(MONTH(I3)=1,MONTH(I3)=2,MONTH(I3)=3),1,IF(OR(MONTH(I3)=4,MONTH(I3)=5,MONTH(I3)=6),2,IF(OR(MONTH(I3)=7,MONTH(I3)=8,MONTH(I3)=9),3,4))) -> 2 | ... BI1: =IF(OR(MONTH(BI3)=1,MONTH(BI3)=2,MONTH(BI3)=3),1,IF(OR(MONTH(BI3)=4,MONTH(BI3)=5,MONTH(BI3)=6),2,IF(OR(MONTH(BI3)=7,MONTH(BI3)=8,MONTH(BI3)=9),3,4))) -> 3
A2: Год | B2: =YEAR(B3) -> 2025 | C2: =YEAR(C3) -> 2025 | D2: =YEAR(D3) -> 2025 | E2: =YEAR(E3) -> 2025 | F2: =YEAR(F3) -> 2026 | G2: =YEAR(G3) -> 2026 | H2: =YEAR(H3) -> 2026 | I2: =YEAR(I3) -> 2026 | ... BI2: =YEAR(BI3) -> 2030 | BK2: =YEAR(Допущения!C4) -> 2025 | BL2: =BK2+1 -> 2026 | BM2: =BL2+1 -> 2027 | BN2: =BM2+1 -> 2028 | BO2: =BN2+1 -> 2029 | BP2: =BO2+1 -> 2030 | BQ2: Итого
A3: Месяц | B3: =Допущения!C4 -> 45901 | C3: =DATE(YEAR(B3),MONTH(B3)+1,1) -> 45931 | D3: =DATE(YEAR(C3),MONTH(C3)+1,1) -> 45962 | E3: =DATE(YEAR(D3),MONTH(D3)+1,1) -> 45992 | F3: =DATE(YEAR(E3),MONTH(E3)+1,1) -> 46023 | G3: =DATE(YEAR(F3),MONTH(F3)+1,1) -> 46054 | H3: =DATE(YEAR(G3),MONTH(G3)+1,1) -> 46082 | I3: =DATE(YEAR(H3),MONTH(H3)+1,1) -> 46113 | J3: =DATE(YEAR(I3),MONTH(I3)+1,1) -> 46143 | ... BJ3: =DATE(YEAR(BI3),MONTH(BI3)+1,1) -> 47727
A4: К-во дней в месяце | B4: =C3-B3 -> 30 | C4: =D3-C3 -> 31 | D4: =E3-D3 -> 30 | E4: =F3-E3 -> 31 | F4: =G3-F3 -> 31 | G4: =H3-G3 -> 28 | H4: =I3-H3 -> 31 | I4: =J3-I3 -> 30 | ... BI4: =BJ3-BI3 -> 31
A5: Порядковый № периода | B5: 1 | C5: =B5+1 -> 2 | D5: =C5+1 -> 3 | E5: =D5+1 -> 4 | F5: =E5+1 -> 5 | G5: =F5+1 -> 6 | H5: =G5+1 -> 7 | I5: =H5+1 -> 8 | J5: =I5+1 -> 9 | ... BI5: =BH5+1 -> 60
A8: Выручка от реализации, тыс. руб. без НДС
A9: =Допущения!A20 -> Свиные полутуши | B9: ='Объемы реализации'!C8*Цены!L8*SUMIF(Сезонность!$B$1:$M$1,MONTH(Выручка!B$3),Сезонность!$B$6:$M$6)/1000 -> 0 | C9: ='Объемы реализации'!D8*Цены!M8*SUMIF(Сезонность!$B$1:$M$1,MONTH(Выручка!C$3),Сезонность!$B$6:$M$6)/1000 -> 0 | D9: ='Объемы реализации'!E8*Цены!N8*SUMIF(Сезонность!$B$1:$M$1,MONTH(Выручка!D$3),Сезонность!$B$6:$M$6)/1000 -> 0 | E9: ='Объемы реализации'!F8*Цены!O8*SUMIF(Сезонность!$B$1:$M$1,MONTH(Выручка!E$3),Сезонность!$B$6:$M$6)/1000 -> 8080 | F9: ='Объемы реализации'!G8*Цены!P8*SUMIF(Сезонность!$B$1:$M$1,MONTH(Выручка!F$3),Сезонность!$B$6:$M$6)/1000 -> 16968 | G9: ='Объемы реализации'!H8*Цены!Q8*SUMIF(Сезонность!$B$1:$M$1,MONTH(Выручка!G$3),Сезонность!$B$6:$M$6)/1000 -> 25452 | H9: ='Объемы реализации'!I8*Цены!R8*SUMIF(Сезонность!$B$1:$M$1,MONTH(Выручка!H$3),Сезонность!$B$6:$M$6)/1000 -> 33936 | I9: ='Объемы реализации'!J8*Цены!S8*SUMIF(Сезонность!$B$1:$M$1,MONTH(Выручка!I$3),Сезонность!$B$6:$M$6)/1000 -> 42420 | ... BI9: ='Объемы реализации'!BJ8*Цены!BS8*SUMIF(Сезонность!$B$1:$M$1,MONTH(Выручка!BI$3),Сезонность!$B$6:$M$6)/1000 -> 51561.775 | BK9: =SUMIF($B$2:$BI$2,BK$2,$B9:$BI9) -> 8080 | BL9: =SUMIF($B$2:$BI$2,BL$2,$B9:$BI9) -> 458136 | BM9: =SUMIF($B$2:$BI$2,BM$2,$B9:$BI9) -> 534492 | BN9: =SUMIF($B$2:$BI$2,BN$2,$B9:$BI9) -> 561216.6 | BO9: =SUMIF($B$2:$BI$2,BO$2,$B9:$BI9) -> 589277.43 | BP9: =SUMIF($B$2:$BI$2,BP$2,$B9:$BI9) -> 412494.2 | BQ9: =SUM(BK9:BP9) -> 2563696.2 | BR9: =BQ9/$BQ$19 -> 0.16706872
A10: =Допущения!A21 -> Говядина четверти | B10: ='Объемы реализации'!C9*Цены!L9*SUMIF(Сезонность!$B$1:$M$1,MONTH(Выручка!B$3),Сезонность!$B$6:$M$6)/1000 -> 0 | C10: ='Объемы реализации'!D9*Цены!M9*SUMIF(Сезонность!$B$1:$M$1,MONTH(Выручка!C$3),Сезонность!$B$6:$M$6)/1000 -> 0 | D10: ='Объемы реализации'!E9*Цены!N9*SUMIF(Сезонность!$B$1:$M$1,MONTH(Выручка!D$3),Сезонность!$B$6:$M$6)/1000 -> 0 | E10: ='Объемы реализации'!F9*Цены!O9*SUMIF(Сезонность!$B$1:$M$1,MONTH(Выручка!E$3),Сезонность!$B$6:$M$6)/1000 -> 9500 | F10: ='Объемы реализации'!G9*Цены!P9*SUMIF(Сезонность!$B$1:$M$1,MONTH(Выручка!F$3),Сезонность!$B$6:$M$6)/1000 -> 19950 | G10: ='Объемы реализации'!H9*Цены!Q9*SUMIF(Сезонность!$B$1:$M$1,MONTH(Выручка!G$3),Сезонность!$B$6:$M$6)/1000 -> 29925 | H10: ='Объемы реализации'!I9*Цены!R9*SUMIF(Сезонность!$B$1:$M$1,MONTH(Выручка!H$3),Сезонность!$B$6:$M$6)/1000 -> 39900 | I10: ='Объемы реализации'!J9*Цены!S9*SUMIF(Сезонность!$B$1:$M$1,MONTH(Выручка!I$3),Сезонность!$B$6:$M$6)/1000 -> 49875 | ... BI10: ='Объемы реализации'!BJ9*Цены!BS9*SUMIF(Сезонность!$B$1:$M$1,MONTH(Выручка!BI$3),Сезонность!$B$6:$M$6)/1000 -> 60623.374 | BK10: =SUMIF($B$2:$BI$2,BK$2,$B10:$BI10) -> 9500 | BL10: =SUMIF($B$2:$BI$2,BL$2,$B10:$BI10) -> 538650 | BM10: =SUMIF($B$2:$BI$2,BM$2,$B10:$BI10) -> 628425 | BN10: =SUMIF($B$2:$BI$2,BN$2,$B10:$BI10) -> 659846.25 | BO10: =SUMIF($B$2:$BI$2,BO$2,$B10:$BI10) -> 692838.56 | BP10: =SUMIF($B$2:$BI$2,BP$2,$B10:$BI10) -> 484986.99 | BQ10: =SUM(BK10:BP10) -> 3014246.8 | BR10: =BQ10/$BQ$19 -> 0.1964298
A11: =Допущения!A22 -> Тушки куриные | B11: ='Объемы реализации'!C10*Цены!L10*SUMIF(Сезонность!$B$1:$M$1,MONTH(Выручка!B$3),Сезонность!$B$6:$M$6)/1000 -> 0 | C11: ='Объемы реализации'!D10*Цены!M10*SUMIF(Сезонность!$B$1:$M$1,MONTH(Выручка!C$3),Сезонность!$B$6:$M$6)/1000 -> 0 | D11: ='Объемы реализации'!E10*Цены!N10*SUMIF(Сезонность!$B$1:$M$1,MONTH(Выручка!D$3),Сезонность!$B$6:$M$6)/1000 -> 0 | E11: ='Объемы реализации'!F10*Цены!O10*SUMIF(Сезонность!$B$1:$M$1,MONTH(Выручка!E$3),Сезонность!$B$6:$M$6)/1000 -> 3800 | F11: ='Объемы реализации'!G10*Цены!P10*SUMIF(Сезонность!$B$1:$M$1,MONTH(Выручка!F$3),Сезонность!$B$6:$M$6)/1000 -> 7980 | G11: ='Объемы реализации'!H10*Цены!Q10*SUMIF(Сезонность!$B$1:$M$1,MONTH(Выручка!G$3),Сезонность!$B$6:$M$6)/1000 -> 11970 | H11: ='Объемы реализации'!I10*Цены!R10*SUMIF(Сезонность!$B$1:$M$1,MONTH(Выручка!H$3),Сезонность!$B$6:$M$6)/1000 -> 15960 | I11: ='Объемы реализации'!J10*Цены!S10*SUMIF(Сезонность!$B$1:$M$1,MONTH(Выручка!I$3),Сезонность!$B$6:$M$6)/1000 -> 19950 | ... BI11: ='Объемы реализации'!BJ10*Цены!BS10*SUMIF(Сезонность!$B$1:$M$1,MONTH(Выручка!BI$3),Сезонность!$B$6:$M$6)/1000 -> 24249.35 | BK11: =SUMIF($B$2:$BI$2,BK$2,$B11:$BI11) -> 3800 | BL11: =SUMIF($B$2:$BI$2,BL$2,$B11:$BI11) -> 215460 | BM11: =SUMIF($B$2:$BI$2,BM$2,$B11:$BI11) -> 251370 | BN11: =SUMIF($B$2:$BI$2,BN$2,$B11:$BI11) -> 263938.5 | BO11: =SUMIF($B$2:$BI$2,BO$2,$B11:$BI11) -> 277135.42 | BP11: =SUMIF($B$2:$BI$2,BP$2,$B11:$BI11) -> 193994.8 | BQ11: =SUM(BK11:BP11) -> 1205698.7 | BR11: =BQ11/$BQ$19 -> 0.078571921
A12: =Допущения!A23 -> Тушки индейки | B12: ='Объемы реализации'!C11*Цены!L11*SUMIF(Сезонность!$B$1:$M$1,MONTH(Выручка!B$3),Сезонность!$B$6:$M$6)/1000 -> 0 | C12: ='Объемы реализации'!D11*Цены!M11*SUMIF(Сезонность!$B$1:$M$1,MONTH(Выручка!C$3),Сезонность!$B$6:$M$6)/1000 -> 0 | D12: ='Объемы реализации'!E11*Цены!N11*SUMIF(Сезонность!$B$1:$M$1,MONTH(Выручка!D$3),Сезонность!$B$6:$M$6)/1000 -> 0 | E12: ='Объемы реализации'!F11*Цены!O11*SUMIF(Сезонность!$B$1:$M$1,MONTH(Выручка!E$3),Сезонность!$B$6:$M$6)/1000 -> 5000 | F12: ='Объемы реализации'!G11*Цены!P11*SUMIF(Сезонность!$B$1:$M$1,MONTH(Выручка!F$3),Сезонность!$B$6:$M$6)/1000 -> 10500 | G12: ='Объемы реализации'!H11*Цены!Q11*SUMIF(Сезонность!$B$1:$M$1,MONTH(Выручка!G$3),Сезонность!$B$6:$M$6)/1000 -> 15750 | H12: ='Объемы реализации'!I11*Цены!R11*SUMIF(Сезонность!$B$1:$M$1,MONTH(Выручка!H$3),Сезонность!$B$6:$M$6)/1000 -> 21000 | I12: ='Объемы реализации'!J11*Цены!S11*SUMIF(Сезонность!$B$1:$M$1,MONTH(Выручка!I$3),Сезонность!$B$6:$M$6)/1000 -> 26250 | ... BI12: ='Объемы реализации'!BJ11*Цены!BS11*SUMIF(Сезонность!$B$1:$M$1,MONTH(Выручка!BI$3),Сезонность!$B$6:$M$6)/1000 -> 31907.039 | BK12: =SUMIF($B$2:$BI$2,BK$2,$B12:$BI12) -> 5000 | BL12: =SUMIF($B$2:$BI$2,BL$2,$B12:$BI12) -> 283500 | BM12: =SUMIF($B$2:$BI$2,BM$2,$B12:$BI12) -> 330750 | BN12: =SUMIF($B$2:$BI$2,BN$2,$B12:$BI12) -> 347287.5 | BO12: =SUMIF($B$2:$BI$2,BO$2,$B12:$BI12) -> 364651.88 | BP12: =SUMIF($B$2:$BI$2,BP$2,$B12:$BI12) -> 255256.31 | BQ12: =SUM(BK12:BP12) -> 1586445.7 | BR12: =BQ12/$BQ$19 -> 0.10338411
A13: =Допущения!A24 -> Котлеты замороженные | B13: ='Объемы реализации'!C12*Цены!L12*SUMIF(Сезонность!$B$1:$M$1,MONTH(Выручка!B$3),Сезонность!$B$6:$M$6)/1000 -> 0 | C13: ='Объемы реализации'!D12*Цены!M12*SUMIF(Сезонность!$B$1:$M$1,MONTH(Выручка!C$3),Сезонность!$B$6:$M$6)/1000 -> 0 | D13: ='Объемы реализации'!E12*Цены!N12*SUMIF(Сезонность!$B$1:$M$1,MONTH(Выручка!D$3),Сезонность!$B$6:$M$6)/1000 -> 0 | E13: ='Объемы реализации'!F12*Цены!O12*SUMIF(Сезонность!$B$1:$M$1,MONTH(Выручка!E$3),Сезонность!$B$6:$M$6)/1000 -> 5250 | F13: ='Объемы реализации'!G12*Цены!P12*SUMIF(Сезонность!$B$1:$M$1,MONTH(Выручка!F$3),Сезонность!$B$6:$M$6)/1000 -> 11025 | G13: ='Объемы реализации'!H12*Цены!Q12*SUMIF(Сезонность!$B$1:$M$1,MONTH(Выручка!G$3),Сезонность!$B$6:$M$6)/1000 -> 16537.5 | H13: ='Объемы реализации'!I12*Цены!R12*SUMIF(Сезонность!$B$1:$M$1,MONTH(Выручка!H$3),Сезонность!$B$6:$M$6)/1000 -> 22050 | I13: ='Объемы реализации'!J12*Цены!S12*SUMIF(Сезонность!$B$1:$M$1,MONTH(Выручка!I$3),Сезонность!$B$6:$M$6)/1000 -> 27562.5 | ... BI13: ='Объемы реализации'!BJ12*Цены!BS12*SUMIF(Сезонность!$B$1:$M$1,MONTH(Выручка!BI$3),Сезонность!$B$6:$M$6)/1000 -> 33502.391 | BK13: =SUMIF($B$2:$BI$2,BK$2,$B13:$BI13) -> 5250 | BL13: =SUMIF($B$2:$BI$2,BL$2,$B13:$BI13) -> 297675 | BM13: =SUMIF($B$2:$BI$2,BM$2,$B13:$BI13) -> 347287.5 | BN13: =SUMIF($B$2:$BI$2,BN$2,$B13:$BI13) -> 364651.88 | BO13: =SUMIF($B$2:$BI$2,BO$2,$B13:$BI13) -> 382884.47 | BP13: =SUMIF($B$2:$BI$2,BP$2,$B13:$BI13) -> 268019.13 | BQ13: =SUM(BK13:BP13) -> 1665768 | BR13: =BQ13/$BQ$19 -> 0.10855331
